BEGIN:VCALENDAR
VERSION:2.0
PRODID:-//ChamberMaster//Event Calendar 2.0//EN
METHOD:PUBLISH
X-PUBLISHED-TTL:P3D
REFRESH-INTERVAL:P3D
CALSCALE:GREGORIAN
BEGIN:VEVENT
DTSTART:20220630T130000Z
DTEND:20220630T140000Z
X-MICROSOFT-CDO-ALLDAYEVENT:FALSE
SUMMARY:Wine Committee Meeting: In-Person
DESCRIPTION:Wine Committee Meeting\n\nThursday\, June 30\, 2022\n\n8:00 a.m.\n\n\n\nLisle Area Chamber of Commerce\n\nConference Room \n\n925 Burlington Avenue\n\nLisle\, IL 60532\n\n\n\nThis meeting will only be offered in-person.
X-ALT-DESC;FMTTYPE=text/html:<br />\n<strong>Wine Committee Meeting</strong><br />\nThursday\, June 30\, 2022<br />\n8:00 a.m.<br />\n<br />\n<strong>Lisle Area Chamber of Commerce<br />\nConference Room&nbsp\;</strong><br />\n925 Burlington Avenue<br />\nLisle\, IL 60532<br />\n<br />\n<strong>This meeting will only be offered in-person.</strong>
LOCATION:Lisle Area Chamber of Commerce Conference Room - 1st Floor 925 Burlington Avenue Lisle\, IL 60532
UID:e.27.14165
SEQUENCE:3
DTSTAMP:20260420T213332Z
URL:http://business.lislechamber.com/events/details/wine-committee-meeting-in-person-14165
END:VEVENT

END:VCALENDAR
