BEGIN:VCALENDAR
VERSION:2.0
PRODID:-//ChamberMaster//Event Calendar 2.0//EN
METHOD:PUBLISH
X-PUBLISHED-TTL:P3D
REFRESH-INTERVAL:P3D
CALSCALE:GREGORIAN
BEGIN:VEVENT
DTSTART:20220607T130000Z
DTEND:20220607T140000Z
X-MICROSOFT-CDO-ALLDAYEVENT:FALSE
SUMMARY:Wine Committee Meeting
DESCRIPTION:Wine Committee Meeting (In-Person & Virtual)\n\nTuesday\, June 7\, 2022\n\n8:00 a.m.\n\n\n\nThe meeting will be held In-Person with a virtual option to attend.\n\n\n\nLisle Area Chamber of Commerce\n\n925 Burlington Avenue\n\nLisle\, IL 60532\n\n\n\nIf you are interested in attending\, please contact Claudine Rummer at claudine@lislechamber.com.
X-ALT-DESC;FMTTYPE=text/html:<br />\n<strong>Wine Committee Meeting (In-Person &amp\; Virtual)</strong><br />\nTuesday\, June 7\, 2022<br />\n8:00 a.m.<br />\n<br />\n<strong>The meeting will be held In-Person with a virtual option to attend.<br />\n<br />\nLisle Area Chamber of Commerce</strong><br />\n925 Burlington Avenue<br />\nLisle\, IL 60532<br />\n<br />\n<strong>If you are interested in attending\, please contact Claudine Rummer at claudine@lislechamber.com.</strong><br />\n&nbsp\;
LOCATION:The meeting will be held In-Person with a virtual option to attend. Lisle Area Chamber of Commerce 925 Burlington Avenue Lisle\, IL 60532 If you are interested in attending\, please contact Claudine Rummer at claudine@lislechamber.com.
UID:e.27.14136
SEQUENCE:3
DTSTAMP:20260420T213105Z
URL:http://business.lislechamber.com/events/details/wine-committee-meeting-14136
END:VEVENT

END:VCALENDAR
