BEGIN:VCALENDAR
VERSION:2.0
PRODID:-//ChamberMaster//Event Calendar 2.0//EN
METHOD:PUBLISH
X-PUBLISHED-TTL:P3D
REFRESH-INTERVAL:P3D
CALSCALE:GREGORIAN
BEGIN:VEVENT
DTSTART:20220222T210000Z
DTEND:20220222T220000Z
X-MICROSOFT-CDO-ALLDAYEVENT:FALSE
SUMMARY:Virtual LINCT Meeting
DESCRIPTION:Virtual LINCT Meeting\n\nTuesday\, February 22\, 2022\n\n3:00 p.m.\n\n\n\nVirtual Meeting\n\nLogin details will be sent prior to the meeting.  If you are interested in attending this FREE networking group\, please contact Claudine Rummer at claudine@lislechamber.com
X-ALT-DESC;FMTTYPE=text/html:<strong>Virtual LINCT Meeting</strong><br />\nTuesday\, February 22\, 2022<br />\n3:00 p.m.<br />\n<br />\n<strong>Virtual Meeting<br />\nLogin details will be sent prior to the meeting.&nbsp\; If you are interested in attending this FREE networking group\, please contact Claudine Rummer at claudine@lislechamber.com</strong><br />\n&nbsp\;
LOCATION:Virtual Meeting
UID:e.27.14053
SEQUENCE:3
DTSTAMP:20260421T021821Z
URL:http://business.lislechamber.com/events/details/virtual-linct-meeting-14053
END:VEVENT

END:VCALENDAR
