BEGIN:VCALENDAR
VERSION:2.0
PRODID:-//ChamberMaster//Event Calendar 2.0//EN
METHOD:PUBLISH
X-PUBLISHED-TTL:P3D
REFRESH-INTERVAL:P3D
CALSCALE:GREGORIAN
BEGIN:VEVENT
DTSTART:20211121T133000Z
DTEND:20211121T170000Z
X-MICROSOFT-CDO-ALLDAYEVENT:FALSE
SUMMARY:Turkey Trot Tune-Up 5K - 2021
DESCRIPTION:Race results: J3Timing.com\n\n\n\n \n\n\n\n\n\n\n\nTurkey Trot Tune-Up 5K 2021\n\n\n\nClick on the Active link to sign up.\n\nhttps://www.active.com/lisle-il/running/distance-running-races/turkey-trot-tune-up-5k-2021\n\n\n\nSunday\, November 21\, 2021\n\n7:30 am - 11:00 am\n\nRegistration - 7:30 am\n\nRace Start - 9:00 am\n\n\n\nLisle High School\n\n1800 Short Street\n\nLisle\, IL 60532\n\n\n\nPacket Pick-Up Information:\n\nFriday\, November 19\, 2021\n\n11:00 a.m. - 4:00 p.m.\n\nLisle Area Chamber of Commerce\n\n(Inside Lisle Village Hall)\n\n925 Burlington Avenue\n\nLisle\, IL 60532\n\n\n\nYou can also pick up your packet on race day beginning at 7:30 a.m.\n\n\n\nThe race starts and ends at Lisle High School.  This 5K takes you through the beautiful Lisle Community park.  This course is USATF certified.\n\n\n\nA portion of the proceeds from this race will go to the Lisle Area Chamber of Commerce Scholarship Fund and also the Lisle Lion's Club. \n\n\n\nSponsorships Available\, contact Jill Eidukas to sponsor the event at (331) 801-0098 or jill@lislechamber.com or you can purchase your sponsorship online by clicking on "Register Now".\n\n\n\nNo Gear Check At Event.\n\n\n\nSPONSORS:\n\n\n\nChip Timing Sponsor: \n\nLisle Savings Bank\n\nPlatinum Sponsors:\n\nEmerge Wealth Strategies\n\nLisle Park District\n\nMolex\, LLC\n\nGold Sponsor:\n\nAurelios Pizza Woodridge\n\nDuly Health and Care\n\nHonda/Volvo of Lisle\n\nSilver Sponsors:\n\nBankFinancial\n\nFour Lakes Recreation\n\nThe Lee Ernst Group at eXp Realty\n\nWilliams Chiropractic Center\n\nYour Story Counseling\, P.C.\n\nContributing Sponsor:\n\nWDCB 90.9 fm Public Radio
X-ALT-DESC;FMTTYPE=text/html:<p><br />\n<br />\nRace results: J3Timing.com<br />\n<br />\n&nbsp\;</p>\n\n<p><br />\n<br />\n<br />\n<strong><span style="font-family:verdana\;"><span style="font-size:16px\;">Turkey Trot Tune-Up 5K 2021</span></span></strong><br />\n<br />\n<span style="font-family:verdana\;"><span style="font-size:16px\;"><strong>Click on the Active link to sign up.</strong></span></span><br />\n<a href="https://www.active.com/lisle-il/running/distance-running-races/turkey-trot-tune-up-5k-2021">https://www.active.com/lisle-il/running/distance-running-races/turkey-trot-tune-up-5k-2021</a><br />\n<br />\n<span style="font-family:verdana\;"><span style="font-size:16px\;"><strong>Sunday\, November 21\, 2021<br />\n7:30 am - 11:00 am</strong><br />\n<strong>Registration - 7:30 am<br />\nRace Start - 9:00 am<br />\n<br />\nLisle High School</strong><br />\n1800 Short Street<br />\nLisle\, IL 60532<br />\n<br />\n<span style="color:#B22222\;"><strong>Packet Pick-Up Information:</strong><br />\n<strong>Friday\, November 19\, 2021<br />\n11:00 a.m. - 4:00 p.m.</strong><br />\n<strong>Lisle Area Chamber of Commerce<br />\n(Inside Lisle Village Hall)<br />\n925 Burlington Avenue<br />\nLisle\, IL 60532<br />\n<br />\nYou can also pick up your packet on race day beginning at 7:30 a.m.</strong></span><br />\n<br />\nThe race starts and ends at Lisle High School.&nbsp\; This 5K takes you through the beautiful Lisle Community park.&nbsp\; This course is USATF certified.<br />\n<br />\n<em>A portion of the proceeds from this race will go to the Lisle Area Chamber of Commerce Scholarship Fund and also the Lisle Lion&#39\;s Club.&nbsp\;</em></span></span><br />\n<br />\n<span style="font-family:verdana\;"><span style="font-size:16px\;">Sponsorships Available\, contact Jill Eidukas to sponsor the event at <a href="tel:(331) 801-0098">(331) 801-0098</a> or jill@lislechamber.com or you can purchase your sponsorship online by clicking on &quot\;Register Now&quot\;.<br />\n<br />\n<span style="font-size:14px\;"><strong>No Gear Check At Event.<br />\n<br />\n<span style="font-size:18px\;">SPONSORS:<br />\n<br />\nChip Timing Sponsor: </span></strong><br />\n<span style="font-size:18px\;">Lisle Savings Bank<br />\n<strong>Platinum Sponsors:</strong><br />\nEmerge Wealth Strategies<br />\nLisle Park District<br />\nMolex\, LLC<br />\n<span style="font-size:16px\;"><strong>Gold Sponsor:</strong><br />\nAurelios Pizza Woodridge<br />\nDuly Health and Care<br />\nHonda/Volvo of Lisle<br />\n<span style="font-size:14px\;"><strong>Silver Sponsors:</strong><br />\nBankFinancial<br />\nFour Lakes Recreation<br />\nThe Lee Ernst Group at eXp Realty<br />\nWilliams Chiropractic Center<br />\nYour Story Counseling\, P.C.<br />\n<strong>Contributing Sponsor:</strong><br />\nWDCB 90.9 fm Public Radio</span></span></span></span></span></span><br />\n<br />\n&nbsp\;</p>\n
LOCATION:Lisle High School 1800 Short Street Lisle\, IL 60532 The race starts and ends at Lisle High School. This 5K takes you through the beautiful Lisle Community park. This course is USATF certified.
UID:e.27.14020
SEQUENCE:3
DTSTAMP:20260421T081429Z
URL:http://business.lislechamber.com/events/details/turkey-trot-tune-up-5k-2021-14020
END:VEVENT

END:VCALENDAR
