BEGIN:VCALENDAR
VERSION:2.0
PRODID:-//ChamberMaster//Event Calendar 2.0//EN
METHOD:PUBLISH
X-PUBLISHED-TTL:P3D
REFRESH-INTERVAL:P3D
CALSCALE:GREGORIAN
BEGIN:VEVENT
DTSTART:20220308T003000Z
DTEND:20220308T013000Z
X-MICROSOFT-CDO-ALLDAYEVENT:FALSE
SUMMARY:Community Event - Support Group for Anxiety & Depression
DESCRIPTION:Your Story Counseling invites all individuals (ages 18+) affected by anxiety & depression to join us in our support group to identify\, understand\, and discover mindful approaches helping individuals stay present throughout the challenges and transitions in life.
X-ALT-DESC;FMTTYPE=text/html:Your Story Counseling invites all individuals (ages 18+) affected by anxiety &amp\; depression to join us in our support group to identify\, understand\, and discover mindful approaches helping individuals stay present throughout the challenges and transitions in life.
LOCATION:Group meets in person at Your Story Counseling. Your Story Counseling 4745 Main Street Suite 207 lisle\, IL 60532
UID:e.27.14059
SEQUENCE:3
DTSTAMP:20260421T021814Z
URL:http://business.lislechamber.com/events/details/support-group-for-anxiety-depression-03-07-2022-14059
END:VEVENT

END:VCALENDAR
