BEGIN:VCALENDAR
VERSION:2.0
PRODID:-//ChamberMaster//Event Calendar 2.0//EN
METHOD:PUBLISH
X-PUBLISHED-TTL:P3D
REFRESH-INTERVAL:P3D
CALSCALE:GREGORIAN
BEGIN:VEVENT
DTSTART:20220415T210000Z
DTEND:20220415T210000Z
X-MICROSOFT-CDO-ALLDAYEVENT:FALSE
SUMMARY:Scholarship Application Deadline
DESCRIPTION:Scholarship Application Deadline\n\nApril 15\, 2022\n\n4:00 p.m.\n\n\n\nClick Here For Scholarship Application Information
X-ALT-DESC;FMTTYPE=text/html:<strong>Scholarship Application Deadline<br />\nApril 15\, 2022<br />\n4:00 p.m.</strong><br />\n<br />\n<a href="http://lislechamber.com/scholarship-application">Click Here For Scholarship Application Information </a><br />\n&nbsp\;
LOCATION:
UID:e.27.14112
SEQUENCE:3
DTSTAMP:20260421T003333Z
URL:http://business.lislechamber.com/events/details/scholarship-application-deadline-14112
END:VEVENT

END:VCALENDAR
