BEGIN:VCALENDAR
VERSION:2.0
PRODID:-//ChamberMaster//Event Calendar 2.0//EN
METHOD:PUBLISH
X-PUBLISHED-TTL:P3D
REFRESH-INTERVAL:P3D
CALSCALE:GREGORIAN
BEGIN:VEVENT
DTSTART:20240417T160000Z
DTEND:20240417T170000Z
X-MICROSOFT-CDO-ALLDAYEVENT:FALSE
SUMMARY:Community Event: Rising Professionals Networking Group- Career & Networking Center
DESCRIPTION:An interactive networking group where recent graduates or entry-level professionals collaborate\, create connections\, and support each other in career growth. This networking group helps leaders develop confidence in networking\, share job leads\, networking techniques & strategies\, perfect and practice their elevator pitches\, and brainstorm ideas and new approaches to job search/interviewing. Register on our calendar page\, scroll to the date of the next session and choose the appropriate link.
X-ALT-DESC;FMTTYPE=text/html:<span style="color:rgb(94\, 94\, 94)\; font-family:open sans\,arial\,sans-serif\; font-size:16px">An interactive networking group where recent graduates or entry-level professionals collaborate\, create connections\, and support each other in career growth. This networking group helps leaders develop confidence in networking\, share job leads\, networking techniques &amp\; strategies\, perfect and practice their elevator pitches\, and brainstorm ideas and new approaches to job search/interviewing. Register on our <a href="https://careernetworkingcenter.org/calendar">calendar page</a>\, scroll to the date of the next session and choose the appropriate link.&nbsp\;</span>
LOCATION:Virtually\, via Zoom.
UID:e.27.16115
SEQUENCE:3
DTSTAMP:20260419T131549Z
URL:http://business.lislechamber.com/events/details/rising-professionals-networking-group-career-networking-center-04-17-2024-16115
END:VEVENT

END:VCALENDAR
