BEGIN:VCALENDAR
VERSION:2.0
PRODID:-//ChamberMaster//Event Calendar 2.0//EN
METHOD:PUBLISH
X-PUBLISHED-TTL:P3D
REFRESH-INTERVAL:P3D
CALSCALE:GREGORIAN
BEGIN:VEVENT
DTSTART:20221103T220000Z
DTEND:20221103T230000Z
X-MICROSOFT-CDO-ALLDAYEVENT:FALSE
SUMMARY:Ribbon Cutting - Thrive Up
DESCRIPTION:Ribbon Cutting - Thrive Up\n\nThursday\, November 3\, 2022\n\n5:00 p.m. - 6:00 p.m.*\n\n\n\nThrive Up\n\n5328 Main St.\, Unit 118\n\nLisle\, IL 60532\n\n\n\n(Thrive Up is located in shopping center on Rte. 53 just north of the intersection of Maple Avenue and Rte. 53)\n\n\n\n*Ribbon Cutting will take place at 5:15 p.m.
X-ALT-DESC;FMTTYPE=text/html:<strong>Ribbon Cutting - Thrive Up</strong><br />\nThursday\, November 3\, 2022<br />\n5:00 p.m. - 6:00 p.m.*<br />\n<br />\n<strong>Thrive Up</strong><br />\n5328 Main St.\, Unit 118<br />\nLisle\, IL 60532<br />\n<br />\n(Thrive Up is located in shopping center on Rte. 53 just north of the intersection of Maple Avenue and Rte. 53)<br />\n<br />\n<strong>*Ribbon Cutting will take place at 5:15 p.m.</strong>
LOCATION:Thrive Up 5328 Main St.\, Unit 118 Lisle\, IL 60532 (Thrive Up is located in shopping center on Rte. 53 just north of the intersection of Maple Avenue and Rte. 53)
UID:e.27.14609
SEQUENCE:3
DTSTAMP:20260420T123227Z
URL:http://business.lislechamber.com/events/details/ribbon-cutting-thrive-up-14609
END:VEVENT

END:VCALENDAR
