BEGIN:VCALENDAR
VERSION:2.0
PRODID:-//ChamberMaster//Event Calendar 2.0//EN
METHOD:PUBLISH
X-PUBLISHED-TTL:P3D
REFRESH-INTERVAL:P3D
CALSCALE:GREGORIAN
BEGIN:VEVENT
DTSTART:20210723T220000Z
DTEND:20210723T230000Z
X-MICROSOFT-CDO-ALLDAYEVENT:FALSE
SUMMARY:Ribbon Cutting - Poundcake Bakery
DESCRIPTION:Ribbon Cutting (In-Person): Poundcake Bakery\n\n\n\nFriday\, July 23\, 2021\n\n5:00 p.m.*\n\n\n\nPoundcake Bakery\n\n4730 Main Street\n\nLisle\, IL 60532\n\n\n\n*Ribbon Cutting will take place at 5:15 p.m.
X-ALT-DESC;FMTTYPE=text/html:<br />\n<strong>Ribbon Cutting (In-Person): Poundcake Bakery<br />\n<br />\nFriday\, July 23\, 2021</strong><br />\n5:00 p.m.*<br />\n<br />\n<strong>Poundcake Bakery<br />\n4730 Main Street<br />\nLisle\, IL 60532<br />\n<br />\n*Ribbon Cutting will take place at 5:15 p.m.</strong><br />\n<br />\n&nbsp\;
LOCATION:Poundcake Bakery 4730 Main Street Lisle\, IL 60532
UID:e.27.13945
SEQUENCE:3
DTSTAMP:20260421T135602Z
URL:http://business.lislechamber.com/events/details/ribbon-cutting-poundcake-bakery-13945
END:VEVENT

END:VCALENDAR
