BEGIN:VCALENDAR
VERSION:2.0
PRODID:-//ChamberMaster//Event Calendar 2.0//EN
METHOD:PUBLISH
X-PUBLISHED-TTL:P3D
REFRESH-INTERVAL:P3D
CALSCALE:GREGORIAN
BEGIN:VEVENT
DTSTART:20251211T230000Z
DTEND:20251212T000000Z
X-MICROSOFT-CDO-ALLDAYEVENT:FALSE
SUMMARY:Ribbon Cutting - Duly Health and Care Brian Moran Cancer Institute
DESCRIPTION:Ribbon Cutting Duly Health and Care Brian Moran Cancer Institute\n\nThursday\, December 11\, 2025 \n\n5:00 p.m.\n\n\n\nBrian Moran Cancer Institute\n\nDuly Health and Care\n\n430 Warrenville Road\n\nLisle\, IL 60532\n\n\n\nRibbon Cutting Ceremony begins at 5:30 p.m.\n\n\n\nEnjoy refreshments\, lite appetizers\, and a chance to meet some of the Institute team members bringing affordable\, accessible\, and high-quality cancer care to the community.\n\n\n\nRSVP by November 21st - Space is limited\, they ask that only one representative attend per organization. RSVP's are required.\n\n\n\nPlease click on link below to RSVP\n\nhttps://cloud.contact.dulyhealthandcare.com/lisle-ribbon-cutting-invite
X-ALT-DESC;FMTTYPE=text/html:<br />\n<strong>Ribbon Cutting Duly Health and Care Brian Moran Cancer Institute</strong><br />\nThursday\, December 11\, 2025&nbsp\;<br />\n5:00 p.m.<br />\n<br />\n<b>Brian Moran Cancer Institute<br />\nDuly Health and Care</b><br />\n430 Warrenville Road<br />\nLisle\, IL 60532<br />\n<br />\nRibbon Cutting Ceremony begins at 5:30 p.m.<br />\n<br />\n<strong>Enjoy refreshments\, lite appetizers\, and a chance to meet some of the Institute team members bringing affordable\, accessible\, and high-quality cancer care to the community.<br />\n<br />\nRSVP by November 21st - Space is limited\, they ask that only one representative attend per organization. <span style="color:#FF0000\;">RSVP&#39\;s are required.</span><br />\n<br />\nPlease click on link below to RSVP</strong><br />\n<a href="https://cloud.contact.dulyhealthandcare.com/lisle-ribbon-cutting-invite">https://cloud.contact.dulyhealthandcare.com/lisle-ribbon-cutting-invite</a><br />\n&nbsp\;
LOCATION:Brian Moran Cancer Institute Duly Health and Care 430 Warrenville Road Lisle\, IL 60532
UID:e.27.16803
SEQUENCE:3
DTSTAMP:20260420T082734Z
URL:http://business.lislechamber.com/events/details/ribbon-cutting-duly-health-and-care-brian-moran-cancer-institute-16803
END:VEVENT

END:VCALENDAR
