BEGIN:VCALENDAR
VERSION:2.0
PRODID:-//ChamberMaster//Event Calendar 2.0//EN
METHOD:PUBLISH
X-PUBLISHED-TTL:P3D
REFRESH-INTERVAL:P3D
CALSCALE:GREGORIAN
BEGIN:VEVENT
DTSTART:20220728T220000Z
DTEND:20220728T230000Z
X-MICROSOFT-CDO-ALLDAYEVENT:FALSE
SUMMARY:Ribbon Cutting - Cabinets City Naperville
DESCRIPTION:Ribbon Cutting - Cabinets City Naperville\n\nThursday\, July 28\, 2022\n\n5:00 p.m. - 6:00 p.m.*\n\n\n\nCabinets City Naperville\n\n1718 Ogden Avenue\n\nLisle\, IL 60532\n\n\n\n*The actual ribbon cutting will take place at 5:15 p.m.
X-ALT-DESC;FMTTYPE=text/html:<br />\n<strong>Ribbon Cutting - Cabinets City Naperville</strong><br />\n<strong>Thursday\, July 28\, 2022<br />\n5:00 p.m. - 6:00 p.m.*<br />\n<br />\nCabinets City Naperville<br />\n1718 Ogden Avenue<br />\nLisle\, IL 60532<br />\n<br />\n*The actual ribbon cutting will take place at 5:15 p.m.</strong>
LOCATION:Cabinets City Naperville 1718 Ogden Avenue Lisle\, IL 60532
UID:e.27.14171
SEQUENCE:3
DTSTAMP:20260420T182934Z
URL:http://business.lislechamber.com/events/details/ribbon-cutting-cabinets-city-naperville-14171
END:VEVENT

END:VCALENDAR
