BEGIN:VCALENDAR
VERSION:2.0
PRODID:-//ChamberMaster//Event Calendar 2.0//EN
METHOD:PUBLISH
X-PUBLISHED-TTL:P3D
REFRESH-INTERVAL:P3D
CALSCALE:GREGORIAN
BEGIN:VEVENT
DTSTART:20221124T140000Z
DTEND:20221125T230000Z
X-MICROSOFT-CDO-ALLDAYEVENT:FALSE
SUMMARY:Office Closed - Thanksgiving Holiday
DESCRIPTION:Office Closed - Thanksgiving Holiday\n\nThursday & Friday\, November 24th & 25th\, 2022\n\n\n\nLisle Area Chamber of Commerce\n\n925 Burlington Avenue\n\nLisle\, IL 60532
X-ALT-DESC;FMTTYPE=text/html:<br />\n<strong>Office Closed - Thanksgiving Holiday</strong><br />\nThursday &amp\; Friday\, November 24th &amp\; 25th\, 2022<br />\n<br />\n<strong>Lisle Area Chamber of Commerce</strong><br />\n925 Burlington Avenue<br />\nLisle\, IL 60532
LOCATION:Lisle Area Chamber of Commerce 925 Burlington Avenue Lisle\, IL 60532
UID:e.27.14590
SEQUENCE:3
DTSTAMP:20260420T123330Z
URL:http://business.lislechamber.com/events/details/office-closed-thanksgiving-holiday-14590
END:VEVENT

END:VCALENDAR
