BEGIN:VCALENDAR
VERSION:2.0
PRODID:-//ChamberMaster//Event Calendar 2.0//EN
METHOD:PUBLISH
X-PUBLISHED-TTL:P3D
REFRESH-INTERVAL:P3D
CALSCALE:GREGORIAN
BEGIN:VEVENT
DTSTART;VALUE=DATE:20220530
DTEND;VALUE=DATE:20220531
TRANSP:TRANSPARENT
X-MICROSOFT-CDO-ALLDAYEVENT:TRUE
SUMMARY:Office Closed - Memorial Day
DESCRIPTION:Office Closed - Memorial Day\n\nMonday\, May 30\, 2022\n\n\n\nLisle Area Chamber of Commerce\n\n925 Burlington Avenue\n\nLisle\, IL 60532
X-ALT-DESC;FMTTYPE=text/html:<br />\n<strong>Office Closed - Memorial Day<br />\nMonday\, May 30\, 2022</strong><br />\n<br />\n<strong>Lisle Area Chamber of Commerce</strong><br />\n925 Burlington Avenue<br />\nLisle\, IL 60532<br />\n&nbsp\;
LOCATION:Lisle Area Chamber of Commerce 925 Burlington Avenue Lisle\, IL 60532
UID:e.27.14075
SEQUENCE:3
DTSTAMP:20260420T212932Z
URL:http://business.lislechamber.com/events/details/office-closed-memorial-day-14075
END:VEVENT

END:VCALENDAR
