BEGIN:VCALENDAR
VERSION:2.0
PRODID:-//ChamberMaster//Event Calendar 2.0//EN
METHOD:PUBLISH
X-PUBLISHED-TTL:P3D
REFRESH-INTERVAL:P3D
CALSCALE:GREGORIAN
BEGIN:VEVENT
DTSTART;VALUE=DATE:20220415
DTEND;VALUE=DATE:20220416
TRANSP:TRANSPARENT
X-MICROSOFT-CDO-ALLDAYEVENT:TRUE
SUMMARY:Office Closed - Good Friday
DESCRIPTION:Office Closed - Good Friday\n\nFriday\, April 15\, 2022
X-ALT-DESC;FMTTYPE=text/html:<br />\n<strong>Office Closed - Good Friday</strong><br />\nFriday\, April 15\, 2022<br />\n&nbsp\;
LOCATION:Lisle Area Chamber of Commerce 925 Burlington Avenue Lisle\, IL 60532
UID:e.27.14109
SEQUENCE:3
DTSTAMP:20260420T230811Z
URL:http://business.lislechamber.com/events/details/office-closed-good-friday-14109
END:VEVENT

END:VCALENDAR
