BEGIN:VCALENDAR
VERSION:2.0
PRODID:-//ChamberMaster//Event Calendar 2.0//EN
METHOD:PUBLISH
X-PUBLISHED-TTL:P3D
REFRESH-INTERVAL:P3D
CALSCALE:GREGORIAN
BEGIN:VEVENT
DTSTART;VALUE=DATE:20220704
DTEND;VALUE=DATE:20220705
TRANSP:TRANSPARENT
X-MICROSOFT-CDO-ALLDAYEVENT:TRUE
SUMMARY:Office Closed - 4th of July
DESCRIPTION:Office Closed - 4th of July Holiday\n\nMonday\, July 4\, 2022\n\n\n\nLisle Area Chamber of Commerce\n\n925 Burlington Avenue\n\nLisle\, IL 60532
X-ALT-DESC;FMTTYPE=text/html:<br />\n<strong>Office Closed - 4th of July Holiday<br />\nMonday\, July 4\, 2022<br />\n<br />\nLisle Area Chamber of Commerce</strong><br />\n925 Burlington Avenue<br />\nLisle\, IL 60532
LOCATION:Lisle Area Chamber of Commerce 925 Burlington Avenue Lisle\, IL 60532
UID:e.27.14124
SEQUENCE:3
DTSTAMP:20260420T182801Z
URL:http://business.lislechamber.com/events/details/office-closed-4th-of-july-14124
END:VEVENT

END:VCALENDAR
