BEGIN:VCALENDAR
VERSION:2.0
PRODID:-//ChamberMaster//Event Calendar 2.0//EN
METHOD:PUBLISH
X-PUBLISHED-TTL:P3D
REFRESH-INTERVAL:P3D
CALSCALE:GREGORIAN
BEGIN:VEVENT
DTSTART:20210603T170000Z
DTEND:20210603T180000Z
X-MICROSOFT-CDO-ALLDAYEVENT:FALSE
SUMMARY:Multi-Chamber Virtual Congressional Update - U.S. Rep Adam Kinzinger
DESCRIPTION:Multi-Chamber Virtual Presentation\n\nCongressional Update with U.S. Representative Adam Kinzinger (R-IL\, 16th District)\n\n\n\nThursday\, June 3\, 2021\n\n12:00 p.m. -1:00 p.m.\n\n\n\nMember Rate - $10.00\n\nNon-Member Rate - $35.00
X-ALT-DESC;FMTTYPE=text/html:<br />\n<strong>Multi-Chamber Virtual Presentation<br />\nCongressional Update with U.S. Representative Adam Kinzinger (R-IL\, 16th District)<br />\n<br />\nThursday\, June 3\, 2021</strong><br />\n12:00 p.m. -1:00 p.m.<br />\n<br />\n<strong>Member Rate - $10.00<br />\nNon-Member Rate - $35.00</strong><br />\n&nbsp\;
LOCATION:Virtual Event
UID:e.27.12919
SEQUENCE:3
DTSTAMP:20260421T135710Z
URL:http://business.lislechamber.com/events/details/multi-chamber-virtual-congressional-update-u-s-rep-adam-kinzinger-12919
END:VEVENT

END:VCALENDAR
