BEGIN:VCALENDAR
VERSION:2.0
PRODID:-//ChamberMaster//Event Calendar 2.0//EN
METHOD:PUBLISH
X-PUBLISHED-TTL:P3D
REFRESH-INTERVAL:P3D
CALSCALE:GREGORIAN
BEGIN:VEVENT
DTSTART:20220119T170000Z
DTEND:20220119T191500Z
X-MICROSOFT-CDO-ALLDAYEVENT:FALSE
SUMMARY:Multi-Chamber State of the County Luncheon
DESCRIPTION:Multi-Chamber State of the County Luncheon\n\nWednesday\, January 19\, 2022\n\n11:00 a.m. - 1:15 p.m.\n\n\n\nWestin Chicago Lombard at Yorktown Center\n\n70 Yorktown Shopping Center\n\nLombard\, IL 60148\n\n\n\n\n\nA Multi-Chamber Business EXPO followed by a luncheon featuring DuPage County Chairman Dan Cronin and other leaders in the DuPage County. Topics covered will include new laws\, economic development\, challenges and enhancements coming to DuPage County in 2022.   \n\n\n\nLunch Member Rate: $35.00\n\nLunch Non-Member Rate: $50.00\n\nTabletop Exhibitor (Includes 1 Lunch): $85.00* \n\n\n\n*To purchase a Tabletop please contact Jill Eidukas at (331) 801-0098 or jill@lislechamber.com
X-ALT-DESC;FMTTYPE=text/html:<br />\n<strong>Multi-Chamber State of the County Luncheon</strong><br />\nWednesday\, January 19\, 2022<br />\n11:00 a.m. - 1:15 p.m.<br />\n<br />\n<strong>Westin Chicago Lombard at Yorktown Center</strong><br />\n70 Yorktown Shopping Center<br />\nLombard\, IL 60148<br />\n<br />\n<br />\n<span style="color: rgb(102\, 102\, 102)\; font-family: &quot\;Open Sans&quot\;\, Arial\, sans-serif\; font-size: 14px\;">A Multi-Chamber Business EXPO followed by a luncheon featuring DuPage County Chairman Dan Cronin and other leaders in the DuPage County. Topics covered will include new laws\, economic development\, challenges and enhancements coming to DuPage County in 2022.&nbsp\; &nbsp\;</span><br />\n<br />\n<strong>Lunch Member Rate: $35.00<br />\nLunch Non-Member Rate: $50.00<br />\nTabletop Exhibitor (Includes 1 Lunch): $85.00*&nbsp\;<br />\n<br />\n*To purchase a Tabletop please contact Jill Eidukas at (331) 801-0098 or jill@lislechamber.com</strong>
LOCATION:Westin Chicago Lombard at Yorktown Center 70 Yorktown Shopping Center Lombard\, IL 60148
UID:e.27.14042
SEQUENCE:3
DTSTAMP:20260421T040311Z
URL:http://business.lislechamber.com/events/details/multi-chamber-state-of-the-county-luncheon-01-19-2022-14042
END:VEVENT

END:VCALENDAR
