BEGIN:VCALENDAR
VERSION:2.0
PRODID:-//ChamberMaster//Event Calendar 2.0//EN
METHOD:PUBLISH
X-PUBLISHED-TTL:P3D
REFRESH-INTERVAL:P3D
CALSCALE:GREGORIAN
BEGIN:VEVENT
DTSTART:20221004T123000Z
DTEND:20221004T141500Z
X-MICROSOFT-CDO-ALLDAYEVENT:FALSE
SUMMARY:Multi-Chamber Safety in DuPage Panel Discussion
DESCRIPTION:Multi-Chamber Safety in DuPage Panel Discussion\n\nTuesday\, October 4\, 2022\n\nNetworking at 7:30 a.m.\n\nBreakfast at 8:00 a.m.\n\n\n\nChicago Marriott Naperville\n\n1801 N. Naper Blvd.\n\nNaperville\, IL 60563\n\n\n\nJoin us for a complimentary breakfast and a panel discussion on keeping DuPage County safe!\n\n\n\nThis event is Free to Attend.
X-ALT-DESC;FMTTYPE=text/html:<br />\n<strong>Multi-Chamber Safety in DuPage Panel Discussion</strong><br />\nTuesday\, October 4\, 2022<br />\nNetworking at 7:30 a.m.<br />\nBreakfast at 8:00 a.m.<br />\n<br />\n<strong>Chicago Marriott Naperville</strong><br />\n1801 N. Naper Blvd.<br />\nNaperville\, IL 60563<br />\n<br />\n<strong>Join us for a complimentary breakfast and a panel discussion on keeping DuPage County safe!<br />\n<br />\nThis event is Free to Attend.&nbsp\; </strong><br />\n&nbsp\;
LOCATION:Chicago Marriott Naperville 1801 N. Naper Blvd. Naperville\, IL 60563
UID:e.27.14587
SEQUENCE:3
DTSTAMP:20260420T135114Z
URL:http://business.lislechamber.com/events/details/multi-chamber-safety-in-dupage-panel-discussion-14587
END:VEVENT

END:VCALENDAR
