BEGIN:VCALENDAR
VERSION:2.0
PRODID:-//ChamberMaster//Event Calendar 2.0//EN
METHOD:PUBLISH
X-PUBLISHED-TTL:P3D
REFRESH-INTERVAL:P3D
CALSCALE:GREGORIAN
BEGIN:VEVENT
DTSTART:20220419T220000Z
DTEND:20220420T000000Z
X-MICROSOFT-CDO-ALLDAYEVENT:FALSE
SUMMARY:Multi-Chamber Networking/Education Forum Featuring Candidate for DuPage County Chairman Greg Hart
DESCRIPTION:Multi-Chamber Networking/Education Forum\n\nFeaturing Candidate for DuPage County Chairman\n\nGreg Hart\n\nTuesday\, April 19\, 2022\n\n5:00 pm - 7:00 pm\n\n\n\nCooper's Hawk Winery & Restaurant\n\n1801 Butterfield Road\n\nDowners Grove\, IL 60515\n\n\n\nJoin us for a Multi-Chamber event to learn the priorities of candidate\, Greg Hart.  Beer\, wine and appetizers are complimentary.\n\n\n\nRSVP is required\, please email Claudine Rummer at claudine@lislechamber.com if you would like to attend.
X-ALT-DESC;FMTTYPE=text/html:<strong>Multi-Chamber Networking/Education Forum<br />\nFeaturing Candidate for DuPage County Chairman<br />\nGreg Hart</strong><br />\nTuesday\, April 19\, 2022<br />\n5:00 pm - 7:00 pm<br />\n<br />\n<strong>Cooper&#39\;s Hawk Winery &amp\; Restaurant</strong><br />\n1801 Butterfield Road<br />\nDowners Grove\, IL 60515<br />\n<br />\n<strong>Join us for a Multi-Chamber event to learn the priorities of candidate\, Greg Hart.&nbsp\; Beer\, wine and appetizers are complimentary.</strong><br />\n<br />\n<strong>RSVP is required\, please email Claudine Rummer at claudine@lislechamber.com if you would like to attend. </strong>
LOCATION:Cooper's Hawk Winery & Restaurant 1801 Butterfield Road Downers Grove\, IL 60515
UID:e.27.14097
SEQUENCE:3
DTSTAMP:20260420T230822Z
URL:http://business.lislechamber.com/events/details/multi-chamber-networking-education-forum-featuring-candidate-for-dupage-county-chairman-greg-hart-14097
END:VEVENT

END:VCALENDAR
