BEGIN:VCALENDAR
VERSION:2.0
PRODID:-//ChamberMaster//Event Calendar 2.0//EN
METHOD:PUBLISH
X-PUBLISHED-TTL:P3D
REFRESH-INTERVAL:P3D
CALSCALE:GREGORIAN
BEGIN:VEVENT
DTSTART:20220308T173000Z
DTEND:20220308T193000Z
X-MICROSOFT-CDO-ALLDAYEVENT:FALSE
SUMMARY:Multi-Chamber Luncheon - COVID-19 in DuPage County
DESCRIPTION:If you are interested in registering for the luncheon\, please contact Jill Eidukas at jill@lislechamber.com or (331) 801-0098 to see if space is available.\n\n\n\nMulti-Chamber Luncheon - COVID-19 in DuPage County\n\nTuesday\, March 8\, 2022\n\n11:30am - Luncheon\n\n12:00pm - Presentation\n\n\n\nCrowne Plaza\n\n1250 Roosevelt Road\n\nGlen Ellyn\, IL 60137\n\n\n\nMember Rate - $25.00\n\nNon-Member Rate - $35.00\n\n\n\nMulti-Chamber Event - Two Years of COVID-19 in DuPage County.  What we know\, What we have learned\, and What we can do to support businesses and the community now and in the future.\n\n\n\nKaren Ayala and Christopher Huff will provide an overview of the current COVID-19 situation in DuPage County and identify opportunities for businesses and public health to support health in their community.
X-ALT-DESC;FMTTYPE=text/html:<br />\n<strong>If you are interested in registering for the luncheon\, please contact Jill Eidukas at jill@lislechamber.com or (331) 801-0098 to see if space is available.</strong><br />\n<br />\n<strong>Multi-Chamber Luncheon - COVID-19 in DuPage County</strong><br />\nTuesday\, March 8\, 2022<br />\n11:30am - Luncheon<br />\n12:00pm - Presentation<br />\n<br />\n<strong>Crowne Plaza</strong><br />\n1250 Roosevelt Road<br />\nGlen Ellyn\, IL 60137<br />\n<br />\n<strong>Member Rate - $25.00<br />\nNon-Member Rate - $35.00</strong><br />\n<br />\nMulti-Chamber Event - Two Years of COVID-19 in DuPage County.&nbsp\; What we know\, What we have learned\, and What we can do to support businesses and the community now and in the future.<br />\n<br />\nKaren Ayala and Christopher Huff will provide an overview of the current COVID-19 situation in DuPage County and identify opportunities for businesses and public health to support health in their community.<br />\n&nbsp\;
LOCATION:Crowne Plaza 1250 Roosevelt Road Glen Ellyn\, IL 60137
UID:e.27.14080
SEQUENCE:3
DTSTAMP:20260421T005021Z
URL:http://business.lislechamber.com/events/details/multi-chamber-luncheon-covid-19-in-dupage-county-14080
END:VEVENT

END:VCALENDAR
