BEGIN:VCALENDAR
VERSION:2.0
PRODID:-//ChamberMaster//Event Calendar 2.0//EN
METHOD:PUBLISH
X-PUBLISHED-TTL:P3D
REFRESH-INTERVAL:P3D
CALSCALE:GREGORIAN
BEGIN:VEVENT
DTSTART:20221019T160000Z
DTEND:20221019T183000Z
X-MICROSOFT-CDO-ALLDAYEVENT:FALSE
SUMMARY:Multi-Chamber Luncheon & Business Expo "Creating A Powerful Small Business Brand"
DESCRIPTION:Multi-Chamber Luncheon & Business Expo\n\n"Creating A Powerful Small Business Brand"\n\nKeynote Speaker: Jim Paglia\, President & CEO of Brands That Stand\n\nWednesday\, October 19\, 2022\n\n11:0 a.m. - 1:30 p.m.\n\n\n\nThe Carlisle\n\n435 E. Butterfiled Road\n\nLombard\, IL 60148\n\n\n\nMember Rate: $40.00\n\nNon-Member Rate: $60.00\n\nTabletop Exhibitor (includes 2 lunch tickets): $150.00
X-ALT-DESC;FMTTYPE=text/html:<br />\n<strong>Multi-Chamber Luncheon &amp\; Business Expo<br />\n&quot\;Creating A Powerful Small Business Brand&quot\;<br />\nKeynote Speaker: Jim Paglia\, President &amp\; CEO of Brands That Stand</strong><br />\nWednesday\, October 19\, 2022<br />\n11:0 a.m. - 1:30 p.m.<br />\n<br />\n<strong>The Carlisle</strong><br />\n435 E. Butterfiled Road<br />\nLombard\, IL 60148<br />\n<br />\n<strong>Member Rate: $40.00<br />\nNon-Member Rate: $60.00<br />\nTabletop Exhibitor (includes 2 lunch tickets): $150.00</strong><br />\n<br />\n&nbsp\;
LOCATION:The Carlisle 435 E. Butterfiled Road Lombard\, IL 60148
UID:e.27.14596
SEQUENCE:3
DTSTAMP:20260420T152645Z
URL:http://business.lislechamber.com/events/details/multi-chamber-luncheon-business-expo-creating-a-powerful-small-business-brand-14596
END:VEVENT

END:VCALENDAR
