BEGIN:VCALENDAR
VERSION:2.0
PRODID:-//ChamberMaster//Event Calendar 2.0//EN
METHOD:PUBLISH
X-PUBLISHED-TTL:P3D
REFRESH-INTERVAL:P3D
CALSCALE:GREGORIAN
BEGIN:VEVENT
DTSTART:20220419T150000Z
DTEND:20220419T183000Z
X-MICROSOFT-CDO-ALLDAYEVENT:FALSE
SUMMARY:Multi-Chamber Economic Outlook & Business Expo
DESCRIPTION:Multi-Chamber Economic Outlook Luncheon & Business Expo\n\nTuesday\, April 19\, 2022\n\n10:00 a.m. - Expo\n\n11:55 a.m. - Luncheon & Presentation\n\n\n\nAshyana Banquets\n\n1620 75th Street\n\nDowners Grove\, IL 60516\n\n\n\nKeynote Speaker will be Anna Paulson\, Executive Vice President and Director of Research Federal Reserve Bank of Chicago.\n\n\n\nEvent Fees -\n\n*Member Rate: $40.00\n\n*Non-Member Rate: $60.00\n\n*Tabletop Exhibitor (includes 1 lunch): $100.00\n\n*Event Sponsorships (includes exhibitor table & 2 lunches): $500.00\n\n\n\nIf you are interested in purchasing an exhibitor table or being an event sponsor\, please contact Jill Eidukas at (331) 801-0098 or jill@lislechamber.com
X-ALT-DESC;FMTTYPE=text/html:<br />\n<strong>Multi-Chamber Economic Outlook Luncheon &amp\; Business Expo</strong><br />\nTuesday\, April 19\, 2022<br />\n10:00 a.m. - Expo<br />\n11:55 a.m. - Luncheon &amp\; Presentation<br />\n<br />\n<strong>Ashyana Banquets</strong><br />\n1620 75th Street<br />\nDowners Grove\, IL 60516<br />\n<br />\n<strong>Keynote Speaker will be Anna Paulson\, Executive Vice President and Director of Research Federal Reserve Bank of Chicago.<br />\n<br />\nEvent Fees -<br />\n*Member Rate: $40.00<br />\n*Non-Member Rate: $60.00<br />\n*Tabletop Exhibitor (includes 1 lunch): $100.00<br />\n*Event Sponsorships (includes exhibitor table &amp\; 2 lunches): $500.00<br />\n<br />\nIf you are interested in purchasing an exhibitor table or being an event sponsor\, please contact Jill Eidukas at (331) 801-0098 or jill@lislechamber.com</strong><br />\n&nbsp\;
LOCATION:Ashyana Banquets 1620 75th Street Downers Grove\, IL 60516
UID:e.27.14095
SEQUENCE:3
DTSTAMP:20260421T005222Z
URL:http://business.lislechamber.com/events/details/multi-chamber-economic-outlook-business-expo-14095
END:VEVENT

END:VCALENDAR
