BEGIN:VCALENDAR
VERSION:2.0
PRODID:-//ChamberMaster//Event Calendar 2.0//EN
METHOD:PUBLISH
X-PUBLISHED-TTL:P3D
REFRESH-INTERVAL:P3D
CALSCALE:GREGORIAN
BEGIN:VEVENT
DTSTART:20260520T213000Z
DTEND:20260520T223000Z
X-MICROSOFT-CDO-ALLDAYEVENT:FALSE
SUMMARY:Lisle Area Leads Group Meeting
DESCRIPTION:Lisle Area Leads Group Meeting\n\nWednesday\, May 20\, 2026\n\n4:30 p.m. \n\n\n\nLocation TBA\n\n\n\nThis meeting is FREE to attend with your Chamber membership.
X-ALT-DESC;FMTTYPE=text/html:<br />\n<span style="box-sizing: border-box\; outline: 0px\; font-family: Arial\, Helvetica\, sans-serif\; font-size: 16px\; font-weight: bolder\;">Lisle Area Leads Group Meeting</span><br style="box-sizing: border-box\; font-family: Arial\, Helvetica\, sans-serif\; font-size: 16px\;" />\n<span style="box-sizing: border-box\; font-family: Arial\, Helvetica\, sans-serif\; font-size: 16px\;">Wednesday\, May 20\, 2026<br style="box-sizing: border-box\;" />\n4:30 p.m.&nbsp\;</span><br style="box-sizing: border-box\; font-family: Arial\, Helvetica\, sans-serif\; font-size: 16px\;" />\n<br style="box-sizing: border-box\; font-family: Arial\, Helvetica\, sans-serif\; font-size: 16px\;" />\n<font face="arial" style="box-sizing: border-box\; font-size: 16px\;"><span style="box-sizing: border-box\;"><span style="box-sizing: border-box\; font-weight: bolder\;">Location TBA</span></span></font><br />\n<br style="box-sizing: border-box\; font-family: Arial\, Helvetica\, sans-serif\; font-size: 16px\;" />\n<span style="box-sizing: border-box\; font-family: Arial\, Helvetica\, sans-serif\; font-size: 16px\; font-weight: bolder\;">This meeting is FREE to attend with your Chamber membership.&nbsp\;&nbsp\;</span><br style="box-sizing: border-box\; font-family: Arial\, Helvetica\, sans-serif\; font-size: 16px\;" />\n<span style="box-sizing: border-box\; font-family: Arial\, Helvetica\, sans-serif\; font-size: 16px\;">&nbsp\;</span>
LOCATION:TBA
UID:e.27.16897
SEQUENCE:3
DTSTAMP:20260420T184116Z
URL:http://business.lislechamber.com/events/details/lisle-area-leads-group-meeting-16897
END:VEVENT

END:VCALENDAR
