BEGIN:VCALENDAR
VERSION:2.0
PRODID:-//ChamberMaster//Event Calendar 2.0//EN
METHOD:PUBLISH
X-PUBLISHED-TTL:P3D
REFRESH-INTERVAL:P3D
CALSCALE:GREGORIAN
BEGIN:VEVENT
DTSTART:20221116T213000Z
DTEND:20221116T223000Z
X-MICROSOFT-CDO-ALLDAYEVENT:FALSE
SUMMARY:LINCT Meeting: In-Person
DESCRIPTION:LINCT Meeting In-Person\n\n(Leadership In Networking Committee Team)\n\nWednesday\, November 16\, 2022\n\n3:30 p.m.\n\n\n\nBrasi's Pizzeria\n\n5328 Main Street\n\nLisle\, IL 60532\n\n\n\nBrasi's Pizzeria is located in the shopping center on the West side of Rte. 53 just north of the intersection of Rte. 53 and Maple Avenue.\n\n\n\nBelow\, please see the topic questions that will be discussed at the meeting.\n\n	You've net someone at an event and thought the conversation went well. You have exchanged cards. How many unreturned attempts at connecting for a meeting or phone call are appropriate before you become a 'stalker'? do you email\, call\, text\, or send a note via post?\n	Once you have met a good prospect\, does anyone offer a lead to them first? It may require some thought and maybe emails to secure one that is beyond 'low hanging fruit'. \n\n\n\n\n\nFREE TO ATTEND\n\nFood and Drink will be available for purchase.
X-ALT-DESC;FMTTYPE=text/html:<br />\n<strong>LINCT Meeting In-Person<br />\n(Leadership In Networking Committee Team)</strong><br />\nWednesday\, November 16\, 2022<br />\n3:30 p.m.<br />\n<br />\n<strong>Brasi&#39\;s Pizzeria</strong><br />\n5328 Main Street<br />\nLisle\, IL 60532<br />\n<br />\nBrasi&#39\;s Pizzeria is located in the shopping center on the West side of Rte. 53 just north of the intersection of Rte. 53 and Maple Avenue.<br />\n<br />\nBelow\, please see the topic questions that will be discussed at the meeting.\n<ol start="1" style="margin-top:0in\;" type="1">\n	<li class="yiv4123213683MsoListParagraph" style="margin-left:0in\;"><span style="font-size:11.0pt\;">You&rsquo\;ve net someone at an event and thought the conversation went well. You have exchanged cards. How many unreturned attempts at connecting for a meeting or phone call are appropriate before you become a &lsquo\;stalker&rsquo\;? do you email\, call\, text\, or send a note via post?</span></li>\n	<li class="yiv4123213683MsoListParagraph" style="margin-left:0in\;"><span style="font-size:11.0pt\;">Once you have met a good prospect\, does anyone offer a lead to them first? It may require some thought and maybe emails to secure one that is beyond &lsquo\;low hanging fruit&rsquo\;. </span></li>\n</ol>\n<br />\n<br />\n<strong>FREE TO ATTEND<br />\nFood and Drink will be available for purchase.</strong><br />\n&nbsp\;
LOCATION:Brasi's Pizzeria 5328 Main Street Lisle\, IL 60532 Brasi's Pizzeria is located in the shopping center on the West side of Rte. 53 just north of the intersection of Rte. 53 and Maple Avenue.
UID:e.27.14612
SEQUENCE:3
DTSTAMP:20260420T125251Z
URL:http://business.lislechamber.com/events/details/linct-meeting-in-person-14612
END:VEVENT

END:VCALENDAR
