BEGIN:VCALENDAR
VERSION:2.0
PRODID:-//ChamberMaster//Event Calendar 2.0//EN
METHOD:PUBLISH
X-PUBLISHED-TTL:P3D
REFRESH-INTERVAL:P3D
CALSCALE:GREGORIAN
BEGIN:VEVENT
DTSTART:20220420T203000Z
DTEND:20220420T213000Z
X-MICROSOFT-CDO-ALLDAYEVENT:FALSE
SUMMARY:LINCT Meeting - In-Person
DESCRIPTION:LINCT Meeting: In-Person\n\nWednesday\, April 20\, 2022\n\n3:30 p.m.\n\n\n\nWheatstack\n\n5900 Route 53\n\nLisle\, IL 60532\n\n\n\nFree to Attend\n\nFood and Drink Available to Purchase\n\n\n\nRSVP to Claudine Rummer at claudine@lislechamber.com if you plan to attend.
X-ALT-DESC;FMTTYPE=text/html:<strong>LINCT Meeting: In-Person</strong><br />\nWednesday\, April 20\, 2022<br />\n3:30 p.m.<br />\n<br />\n<strong>Wheatstack</strong><br />\n5900 Route 53<br />\nLisle\, IL 60532<br />\n<br />\n<strong>Free to Attend<br />\nFood and Drink Available to Purchase<br />\n<br />\nRSVP to Claudine Rummer at claudine@lislechamber.com if you plan to attend.</strong><br />\n&nbsp\;
LOCATION:Wheatstack 5900 Route 53 Lisle\, IL 60532
UID:e.27.14101
SEQUENCE:3
DTSTAMP:20260420T231702Z
URL:http://business.lislechamber.com/events/details/linct-meeting-in-person-14101
END:VEVENT

END:VCALENDAR
