BEGIN:VCALENDAR
VERSION:2.0
PRODID:-//ChamberMaster//Event Calendar 2.0//EN
METHOD:PUBLISH
X-PUBLISHED-TTL:P3D
REFRESH-INTERVAL:P3D
CALSCALE:GREGORIAN
BEGIN:VEVENT
DTSTART:20220323T200000Z
DTEND:20220323T213000Z
X-MICROSOFT-CDO-ALLDAYEVENT:FALSE
SUMMARY:LINCT Meeting - In-Person
DESCRIPTION:LINCT Meeting: In-Person\n\nWednesday\, March 23\, 2022\n\n3:00 p.m.\n\n\n\nWheatstack\n\n5900 Route 53\n\nLisle\, IL 60532\n\n\n\n\n\nFree to Attend\n\nFood and Drink Available to Purchase\n\n\n\nRSVP to Claudine Rummer at claudine@lislechamber.com if you plan to attend.\n\n\n\n- Business or Product Pitch -\n\n- Questions of the Day -\n\n"What do you consider your top resources for your company's industry/field?"\n\n"How do you think your business will be networking in the next 1-5 years?"
X-ALT-DESC;FMTTYPE=text/html:<br />\n<strong>LINCT Meeting: In-Person</strong><br />\nWednesday\, March 23\, 2022<br />\n3:00 p.m.<br />\n<br />\n<strong>Wheatstack</strong><br />\n5900 Route 53<br />\nLisle\, IL 60532<br />\n<br />\n<br />\n<strong>Free to Attend<br />\nFood and Drink Available to Purchase<br />\n<br />\nRSVP to Claudine Rummer at claudine@lislechamber.com if you plan to attend.</strong><br />\n<br />\n- Business or Product Pitch -<br />\n- Questions of the Day -<br />\n&ldquo\;What do you consider your top resources for your company&rsquo\;s industry/field?&rdquo\;<br />\n&ldquo\;How do you think your business will be networking in the next 1-5 years?&rdquo\;
LOCATION:Wheatstack 5900 Route 53 Lisle\, IL 60532
UID:e.27.14084
SEQUENCE:3
DTSTAMP:20260421T005221Z
URL:http://business.lislechamber.com/events/details/linct-meeting-in-person-14084
END:VEVENT

END:VCALENDAR
