BEGIN:VCALENDAR
VERSION:2.0
PRODID:-//ChamberMaster//Event Calendar 2.0//EN
METHOD:PUBLISH
X-PUBLISHED-TTL:P3D
REFRESH-INTERVAL:P3D
CALSCALE:GREGORIAN
BEGIN:VEVENT
DTSTART:20221019T203000Z
DTEND:20221019T213000Z
X-MICROSOFT-CDO-ALLDAYEVENT:FALSE
SUMMARY:LINCT Meeting In-Person
DESCRIPTION:LINCT Meeting In-Person\n\n(Leadership In Networking Committee Team)\n\nWednesday\, October 19\, 2022\n\n3:30 p.m.\n\n\n\nWheatstack\n\n5900 Route 53\n\nLisle\, IL 60532\n\n\n\nFREE TO ATTEND - Food and Drink will be available to purchase
X-ALT-DESC;FMTTYPE=text/html:<br />\n<strong>LINCT Meeting In-Person<br />\n(Leadership In Networking Committee Team)</strong><br />\nWednesday\, October 19\, 2022<br />\n3:30 p.m.<br />\n<br />\n<strong>Wheatstack</strong><br />\n5900 Route 53<br />\nLisle\, IL 60532<br />\n<br />\n<strong>FREE TO ATTEND - Food and Drink will be available to purchase</strong>
LOCATION:Wheatstack 5900 Route 53 Lisle\, IL 60532
UID:e.27.14606
SEQUENCE:3
DTSTAMP:20260420T135533Z
URL:http://business.lislechamber.com/events/details/linct-meeting-in-person-10-19-2022-14606
END:VEVENT

END:VCALENDAR
