BEGIN:VCALENDAR
VERSION:2.0
PRODID:-//ChamberMaster//Event Calendar 2.0//EN
METHOD:PUBLISH
X-PUBLISHED-TTL:P3D
REFRESH-INTERVAL:P3D
CALSCALE:GREGORIAN
BEGIN:VEVENT
DTSTART;VALUE=DATE:20210705
DTEND;VALUE=DATE:20210706
TRANSP:TRANSPARENT
X-MICROSOFT-CDO-ALLDAYEVENT:TRUE
SUMMARY:July 4th Holiday Observed - Office Closed
DESCRIPTION:Office Closed - July 4th Holiday Observed
X-ALT-DESC;FMTTYPE=text/html:<br />\n<strong>Office Closed - July 4th Holiday Observed</strong>
LOCATION:
UID:e.27.13729
SEQUENCE:3
DTSTAMP:20260421T122020Z
URL:http://business.lislechamber.com/events/details/july-4th-holiday-observed-office-closed-13729
END:VEVENT

END:VCALENDAR
