BEGIN:VCALENDAR
VERSION:2.0
PRODID:-//ChamberMaster//Event Calendar 2.0//EN
METHOD:PUBLISH
X-PUBLISHED-TTL:P3D
REFRESH-INTERVAL:P3D
CALSCALE:GREGORIAN
BEGIN:VEVENT
DTSTART:20260506T203000Z
DTEND:20260506T213000Z
X-MICROSOFT-CDO-ALLDAYEVENT:FALSE
SUMMARY:Golf Committee Meeting
DESCRIPTION:Golf Committee Meeting\n\nWednesday\, May 6\, 2026\n\n3:30 p.m.\n\n\n\nSeven Bridges Golf Club - The Dock at Seven Bridges\n\n1 Mulligan Drive\n\nWoodridge\, IL 60517
X-ALT-DESC;FMTTYPE=text/html:<br />\n<span style="box-sizing: border-box\; font-family: Arial\, Helvetica\, sans-serif\; font-size: 16px\; font-weight: bolder\;">Golf Committee Meeting</span><br style="box-sizing: border-box\; font-family: Arial\, Helvetica\, sans-serif\; font-size: 16px\;" />\n<span style="box-sizing: border-box\; outline: 0px\; font-family: Arial\, Helvetica\, sans-serif\; font-size: 16px\;">Wednesday\, May 6\, 2026</span><br style="box-sizing: border-box\; font-family: Arial\, Helvetica\, sans-serif\; font-size: 16px\;" />\n<span style="box-sizing: border-box\; font-family: Arial\, Helvetica\, sans-serif\; font-size: 16px\;">3:30 p.m.</span><br style="box-sizing: border-box\; font-family: Arial\, Helvetica\, sans-serif\; font-size: 16px\;" />\n<br style="box-sizing: border-box\; font-family: Arial\, Helvetica\, sans-serif\; font-size: 16px\;" />\n<font face="Arial\, Helvetica\, sans-serif" style="box-sizing: border-box\; font-family: Arial\, Helvetica\, sans-serif\; font-size: 16px\;"><span style="box-sizing: border-box\; font-weight: bolder\;">Seven Bridges Golf Club - The Dock at Seven Bridges</span><br style="box-sizing: border-box\;" />\n1 Mulligan Drive<br />\nWoodridge\, IL 60517</font>
LOCATION:Seven Bridges Golf Club - The Dock at Seven Bridges 1 Mulligan Drive Woodridge\, IL 60517
UID:e.27.16894
SEQUENCE:3
DTSTAMP:20260420T184638Z
URL:http://business.lislechamber.com/events/details/golf-committee-meeting-16894
END:VEVENT

END:VCALENDAR
