BEGIN:VCALENDAR
VERSION:2.0
PRODID:-//ChamberMaster//Event Calendar 2.0//EN
METHOD:PUBLISH
X-PUBLISHED-TTL:P3D
REFRESH-INTERVAL:P3D
CALSCALE:GREGORIAN
BEGIN:VEVENT
DTSTART:20210828T220000Z
DTEND:20210829T010000Z
X-MICROSOFT-CDO-ALLDAYEVENT:FALSE
SUMMARY:DPG Realty - Ribbon Cutting & 1st Birthday Party
DESCRIPTION:Ribbon Cutting & 1st Birthday Party (In-Person)\n\n\n\nSaturday\, August 28\, 2021\n\n5:00 pm - 8:00 pm*\n\n\n\nDPG Real Estate\n\n4726 Main Street\n\nLisle\, IL 60532\n\n\n\n*Ribbon Cutting will take place at 5:15 pm
X-ALT-DESC;FMTTYPE=text/html:<strong>Ribbon Cutting &amp\; 1st Birthday Party (In-Person)<br />\n<br />\nSaturday\, August 28\, 2021<br />\n5:00 pm - 8:00 pm*</strong><br />\n<br />\n<strong>DPG Real Estate</strong><br />\n<strong>4726 Main Street<br />\nLisle\, IL 60532<br />\n<br />\n*Ribbon Cutting will take place at 5:15 pm</strong>
LOCATION:DPG Real Estate 4726 Main Street Lisle\, IL 60532
UID:e.27.13962
SEQUENCE:3
DTSTAMP:20260421T110327Z
URL:http://business.lislechamber.com/events/details/dpg-realty-ribbon-cutting-1st-birthday-party-13962
END:VEVENT

END:VCALENDAR
