BEGIN:VCALENDAR
VERSION:2.0
PRODID:-//ChamberMaster//Event Calendar 2.0//EN
METHOD:PUBLISH
X-PUBLISHED-TTL:P3D
REFRESH-INTERVAL:P3D
CALSCALE:GREGORIAN
BEGIN:VEVENT
DTSTART:20221109T173000Z
DTEND:20221109T190000Z
X-MICROSOFT-CDO-ALLDAYEVENT:FALSE
SUMMARY:Connecting the Dots Multi-Chamber Networking Event: Art of Reconnection"
DESCRIPTION:Connecting the Dots Multi-Chamber Networking Event\n\n"Art of Reconnection"\n\nWednesday\, November 9\, 2022\n\n11:30 a.m. - 1:00 p.m.\n\n\n\nHoliday Inn\n\n150 S. Gary Road\n\nCarol Stream\, IL 60188\n\n\n\nMember Rate: $35.00\n\nNon-Member Rate: $38.00
X-ALT-DESC;FMTTYPE=text/html:<strong>Connecting the Dots Multi-Chamber Networking Event<br />\n&quot\;Art of Reconnection&quot\;</strong><br />\nWednesday\, November 9\, 2022<br />\n11:30 a.m. - 1:00 p.m.<br />\n<br />\n<strong>Holiday Inn</strong><br />\n150 S. Gary Road<br />\nCarol Stream\, IL 60188<br />\n<br />\n<strong>Member Rate: $35.00<br />\nNon-Member Rate: $38.00</strong>
LOCATION:Holiday Inn 150 S. Gary Road Carol Stream\, IL 60188
UID:e.27.14597
SEQUENCE:3
DTSTAMP:20260420T135248Z
URL:http://business.lislechamber.com/events/details/connecting-the-dots-multi-chamber-networking-event-art-of-reconnection-14597
END:VEVENT

END:VCALENDAR
