BEGIN:VCALENDAR
VERSION:2.0
PRODID:-//ChamberMaster//Event Calendar 2.0//EN
METHOD:PUBLISH
X-PUBLISHED-TTL:P3D
REFRESH-INTERVAL:P3D
CALSCALE:GREGORIAN
BEGIN:VEVENT
DTSTART:20210825T230000Z
DTEND:20210826T010000Z
X-MICROSOFT-CDO-ALLDAYEVENT:FALSE
SUMMARY:Community Event - Your Story Counseling | Womens Support Group
DESCRIPTION:We're inviting all women (ages 18+) looking for a new and exciting way to restore their social ties to join our six-session group\, lead by Sheila Adamo\, MSW\, LCSW\, CADC. To build upon the skills and support\, we all need to cultivate lasting relationships with others.
X-ALT-DESC;FMTTYPE=text/html:&nbsp\;We&#39\;re inviting all women (ages 18+) looking for a new and exciting way to restore their social ties to join our six-session group\, lead by Sheila Adamo\, MSW\, LCSW\, CADC. To build upon the skills and support\, we all need to cultivate lasting relationships with others.
LOCATION:Your Story Counseling 4745 Main St. Suite 207\, Lisle\, Il.
UID:e.27.13955
SEQUENCE:3
DTSTAMP:20260421T110348Z
URL:http://business.lislechamber.com/events/details/community-event-your-story-counseling-womens-support-group-08-25-2021-13955
END:VEVENT

END:VCALENDAR
