BEGIN:VCALENDAR
VERSION:2.0
PRODID:-//ChamberMaster//Event Calendar 2.0//EN
METHOD:PUBLISH
X-PUBLISHED-TTL:P3D
REFRESH-INTERVAL:P3D
CALSCALE:GREGORIAN
BEGIN:VEVENT
DTSTART:20210819T223000Z
DTEND:20210820T000000Z
X-MICROSOFT-CDO-ALLDAYEVENT:FALSE
SUMMARY:Community Event - Your Story Counseling | Grief & Loss Group
DESCRIPTION:A support system to open up a community to those who are grieving yet feel alone. Any adult who has experienced loss through death\, job loss\, pet loss\, and other major life transitions is welcome to attend this open format group. Attend as often or as little as you'd like! To register or for more information\, please contact our intake team at 630.442.1895 or email info@yourstoryinc.com. Fee per group: $10
X-ALT-DESC;FMTTYPE=text/html:A support system to open up a community to those who are grieving yet feel alone. Any adult who has experienced loss through death\, job loss\, pet loss\, and other major life transitions is welcome to attend this open format group. Attend as often or as little as you&#39\;d like! To register or for more information\, please contact our intake team at 630.442.1895 or email info@yourstoryinc.com. Fee per group: $10
LOCATION:4745 Main Street\, Lisle\, IL. Suite #207
UID:e.27.13964
SEQUENCE:3
DTSTAMP:20260421T122217Z
URL:http://business.lislechamber.com/events/details/community-event-your-story-counseling-grief-loss-group-08-19-2021-13964
END:VEVENT

END:VCALENDAR
