BEGIN:VCALENDAR
VERSION:2.0
PRODID:-//ChamberMaster//Event Calendar 2.0//EN
METHOD:PUBLISH
X-PUBLISHED-TTL:P3D
REFRESH-INTERVAL:P3D
CALSCALE:GREGORIAN
BEGIN:VEVENT
DTSTART:20211004T230000Z
DTEND:20211005T000000Z
X-MICROSOFT-CDO-ALLDAYEVENT:FALSE
SUMMARY:Community Event - Young Adult Anxiety & Depression | Your Story Counseling
DESCRIPTION:*Open to young adults (ages 18-26) living with anxiety and depression looking for alternative treatment methods and approaches for support through the shared life changes all young adults' experience. * This group helps identify\, understand\, and teach mindful approaches for young adults facing anxiety and depression alongside peers who can relate. The commonalities shared among those within this group provide individuals with comfort\, connection\, and the support of a trained professional to gain new approaches of operating in this chapter of their life but perhaps most importantly to know they are not alone.
X-ALT-DESC;FMTTYPE=text/html:*Open to young adults (ages 18-26) living with anxiety and depression looking for alternative treatment methods and approaches for support through the shared life changes all young adults&rsquo\; experience. * This group helps identify\, understand\, and teach mindful approaches for young adults facing anxiety and depression alongside peers who can relate. The commonalities shared among those within this group provide individuals with comfort\, connection\, and the support of a trained professional to gain new approaches of operating in this chapter of their life but perhaps most importantly to know they are not alone.
LOCATION:Our Office is located at 4745 Main St. Suite 207\, Lisle\, Il.
UID:e.27.13984
SEQUENCE:3
DTSTAMP:20260421T081626Z
URL:http://business.lislechamber.com/events/details/community-event-young-adult-anxiety-depression-your-story-counseling-10-04-2021-13984
END:VEVENT

END:VCALENDAR
