BEGIN:VCALENDAR
VERSION:2.0
PRODID:-//ChamberMaster//Event Calendar 2.0//EN
METHOD:PUBLISH
X-PUBLISHED-TTL:P3D
REFRESH-INTERVAL:P3D
CALSCALE:GREGORIAN
BEGIN:VEVENT
DTSTART:20220311T013000Z
DTEND:20220311T023000Z
X-MICROSOFT-CDO-ALLDAYEVENT:FALSE
SUMMARY:Community Event - Talk Saves Lives: A Brief Introduction to Suicide Prevention
DESCRIPTION:Suicide can be prevented. Join a hybrid information presentation on Thursday\, March 10\, at 7:30 PM either at the Village of Lisle Board Room at 925 Burlington Ave.\, Lisle or online https://bit.ly/03-10-22-Suicide-Prevention. This presentation will cover what we know about this leading cause of death\, the most up-to-date research on prevention\, and what we can all do to fight suicide. Participants will learn the common risk factors for suicide\, how to spot the warning signs in others\, and how to keep ourselves\, our loved ones and those in our community safe. Brought to you by the American Foundation for Suicide Prevention in partnership with Lisle Township. If you have any questions or wish to talk please call the Lisle Township Youth and Family Services Director\, Sarah Breithaupt\, at Lisle Township (630) 968-2087\, ext. 14 or email SarahB@LisleTownship.com Here is the Facebook Link https://fb.me/e/2dlMifxXH
X-ALT-DESC;FMTTYPE=text/html:Suicide can be prevented. Join a hybrid information presentation on Thursday\, March 10\, at 7:30 PM either at the Village of Lisle Board Room at 925 Burlington Ave.\, Lisle or online https://bit.ly/03-10-22-Suicide-Prevention. This presentation will cover what we know about this leading cause of death\, the most up-to-date research on prevention\, and what we can all do to fight suicide. Participants will learn the common risk factors for suicide\, how to spot the warning signs in others\, and how to keep ourselves\, our loved ones and those in our community safe. Brought to you by the American Foundation for Suicide Prevention in partnership with Lisle Township. If you have any questions or wish to talk please call the Lisle Township Youth and Family Services Director\, Sarah Breithaupt\, at Lisle Township (630) 968-2087\, ext. 14 or email SarahB@LisleTownship.com Here is the Facebook Link https://fb.me/e/2dlMifxXH
LOCATION:Village of Lisle Board Room at 925 Burlington Ave.\, Lisle or online https://bit.ly/03-10-22-Suicide-Prevention.
UID:e.27.14085
SEQUENCE:3
DTSTAMP:20260421T022103Z
URL:http://business.lislechamber.com/events/details/community-event-talk-saves-lives-a-brief-introduction-to-suicide-prevention-14085
END:VEVENT

END:VCALENDAR
