BEGIN:VCALENDAR
VERSION:2.0
PRODID:-//ChamberMaster//Event Calendar 2.0//EN
METHOD:PUBLISH
X-PUBLISHED-TTL:P3D
REFRESH-INTERVAL:P3D
CALSCALE:GREGORIAN
BEGIN:VEVENT
DTSTART:20210722T190000Z
DTEND:20210722T200000Z
X-MICROSOFT-CDO-ALLDAYEVENT:FALSE
SUMMARY:Community Event - "Save a Life: Overdose Prevention Bystander Training"
DESCRIPTION:You never know when you might be able to save a life. With opioid use on the rise\, the potential is all around us to save a life in our community. At this free\, one-hour community session sponsored by the DuPage Narcan Program in partnership with Lisle Township you can learn about: * the signs and symptoms of an opioid overdose * how to use the lifesaving antidote Narcan * community resources Those who complete the training can receive a free dose of Narcan. Here's how to register to save a seat for one of three upcoming sessions: 7/22\, 2-3 p.m.\, Lisle Township Supervisor's Office\, 4711 Indiana Ave.: http://events.constantcontact.com/register/event?llr=5zlvynlab&oeidk=a07ei7pwfz3fcaa5a3a 7/27\, noon-1 p.m.\, at Lisle Village Hall Board Room\, 925 Burlington Ave: http://events.constantcontact.com/register/event?llr=5zlvynlab&oeidk=a07ei7pxi4tbe6235b6 8/10\, 5-6 p.m. Benedictine University\, Goodwin Hall Room 321\, 5700 College Rd.\, Lisle: http://events.constantcontact.com/register/event?llr=5zlvynlab&oeidk=a07ei7vgn5z7aa29ee4
X-ALT-DESC;FMTTYPE=text/html:You never know when you might be able to save a life. With opioid use on the rise\, the potential is all around us to save a life in our community. At this free\, one-hour community session sponsored by the DuPage Narcan Program in partnership with Lisle Township you can learn about: * the signs and symptoms of an opioid overdose * how to use the lifesaving antidote Narcan * community resources Those who complete the training can receive a free dose of Narcan. Here&rsquo\;s how to register to save a seat for one of three upcoming sessions: 7/22\, 2-3 p.m.\, Lisle Township Supervisor&rsquo\;s Office\, 4711 Indiana Ave.: http://events.constantcontact.com/register/event?llr=5zlvynlab&amp\;oeidk=a07ei7pwfz3fcaa5a3a 7/27\, noon-1 p.m.\, at Lisle Village Hall Board Room\, 925 Burlington Ave: http://events.constantcontact.com/register/event?llr=5zlvynlab&amp\;oeidk=a07ei7pxi4tbe6235b6 8/10\, 5-6 p.m. Benedictine University\, Goodwin Hall Room 321\, 5700 College Rd.\, Lisle: http://events.constantcontact.com/register/event?llr=5zlvynlab&amp\;oeidk=a07ei7vgn5z7aa29ee4
LOCATION:Lisle Township Supervisor's Office\, 4711 Indiana Avenue.
UID:e.27.13947
SEQUENCE:3
DTSTAMP:20260421T121846Z
URL:http://business.lislechamber.com/events/details/community-event-save-a-life-overdose-prevention-bystander-training-13947
END:VEVENT

END:VCALENDAR
