BEGIN:VCALENDAR
VERSION:2.0
PRODID:-//ChamberMaster//Event Calendar 2.0//EN
METHOD:PUBLISH
X-PUBLISHED-TTL:P3D
REFRESH-INTERVAL:P3D
CALSCALE:GREGORIAN
BEGIN:VEVENT
DTSTART:20210810T220000Z
DTEND:20210810T230000Z
X-MICROSOFT-CDO-ALLDAYEVENT:FALSE
SUMMARY:Community Event - "Save a Life: Overdose Prevention Bystander Training"
DESCRIPTION:You never know when you might be able to save a life. With opioid use on the rise\, the potential is all around us to save a life in our community. At this free\, one-hour community session sponsored by the DuPage Narcan Program in partnership with Lisle Township you can learn about: * the signs and symptoms of an opioid overdose * how to use the lifesaving antidote Narcan * community resources Those who complete the training can receive a free dose of Narcan.
X-ALT-DESC;FMTTYPE=text/html:You never know when you might be able to save a life. With opioid use on the rise\, the potential is all around us to save a life in our community. At this free\, one-hour community session sponsored by the DuPage Narcan Program in partnership with Lisle Township you can learn about: * the signs and symptoms of an opioid overdose * how to use the lifesaving antidote Narcan * community resources Those who complete the training can receive a free dose of Narcan.
LOCATION:Benedictine University Goodwin Hall Room 321 5700 College Road
UID:e.27.13949
SEQUENCE:3
DTSTAMP:20260421T122026Z
URL:http://business.lislechamber.com/events/details/community-event-save-a-life-overdose-prevention-bystander-training-08-10-2021-13949
END:VEVENT

END:VCALENDAR
