BEGIN:VCALENDAR
VERSION:2.0
PRODID:-//ChamberMaster//Event Calendar 2.0//EN
METHOD:PUBLISH
X-PUBLISHED-TTL:P3D
REFRESH-INTERVAL:P3D
CALSCALE:GREGORIAN
BEGIN:VEVENT
DTSTART:20220625T223000Z
DTEND:20220626T040000Z
X-MICROSOFT-CDO-ALLDAYEVENT:FALSE
SUMMARY:Community Event - Rock The Block
DESCRIPTION:Come support LivingWell Cancer Resource Center at this summer's ultimate block party   Rock the Block! Enjoy delicious food from local restaurants and food trucks\, summer drinks\, live entertainment\, carnival games and more on June 25. Proceeds from this special event help LivingWell continue to provide free supportive services and programs to patients and their caregivers and families during every step of a cancer journey.
X-ALT-DESC;FMTTYPE=text/html:Come support LivingWell Cancer Resource Center at this summer&rsquo\;s ultimate block party &mdash\; Rock the Block! Enjoy delicious food from local restaurants and food trucks\, summer drinks\, live entertainment\, carnival games and more on June 25. Proceeds from this special event help LivingWell continue to provide free supportive services and programs to patients and their caregivers and families during every step of a cancer journey.
LOCATION:Location Name: Home of Ed and Karen French Address: (Omit exact address\, if possible\, for homeowner privacy) City\, State\, Postal Code: St. Charles\, IL
UID:e.27.14157
SEQUENCE:3
DTSTAMP:20260420T201215Z
URL:http://business.lislechamber.com/events/details/community-event-rock-the-block-06-25-2022-14157
END:VEVENT

END:VCALENDAR
