BEGIN:VCALENDAR
VERSION:2.0
PRODID:-//ChamberMaster//Event Calendar 2.0//EN
METHOD:PUBLISH
X-PUBLISHED-TTL:P3D
REFRESH-INTERVAL:P3D
CALSCALE:GREGORIAN
BEGIN:VEVENT
DTSTART:20220629T003000Z
DTEND:20220629T013000Z
X-MICROSOFT-CDO-ALLDAYEVENT:FALSE
SUMMARY:Community Event - Parent Connections Online Group
DESCRIPTION:This ONLINE Parent Connections group helps parents (with children of all ages) to manage the pressures of parenthood in today's world\, which at times can be overwhelming. Together we create a group of parents to build what we all require to develop resiliency within ourselves\, our families\, and our communities. On Tuesday\, June 7th\, Your Story Counseling will begin our next series of the Parent Connection Program\, which provides online support and a safe place to start building a connection among parents looking to deepen their relationship with themselves\, their families\, and their children. Who? Parents with children of all ages When? Tuesday\, June 7th Where? Online Time? 7:30 -8:30 p.m. Sign up when? Now! Or any Tuesday throughout the 8-week program.
X-ALT-DESC;FMTTYPE=text/html:This ONLINE Parent Connections group helps parents (with children of all ages) to manage the pressures of parenthood in today&rsquo\;s world\, which at times can be overwhelming. Together we create a group of parents to build what we all require to develop resiliency within ourselves\, our families\, and our communities. On Tuesday\, June 7th\, Your Story Counseling will begin our next series of the Parent Connection Program\, which provides online support and a safe place to start building a connection among parents looking to deepen their relationship with themselves\, their families\, and their children. Who? Parents with children of all ages When? Tuesday\, June 7th Where? Online Time? 7:30 -8:30 p.m. Sign up when? Now! Or any Tuesday throughout the 8-week program.
LOCATION:Online Group - Offered by Your Story Counseling
UID:e.27.14142
SEQUENCE:3
DTSTAMP:20260420T213254Z
URL:http://business.lislechamber.com/events/details/community-event-parent-connections-online-group-06-28-2022-14142
END:VEVENT

END:VCALENDAR
