BEGIN:VCALENDAR
VERSION:2.0
PRODID:-//ChamberMaster//Event Calendar 2.0//EN
METHOD:PUBLISH
X-PUBLISHED-TTL:P3D
REFRESH-INTERVAL:P3D
CALSCALE:GREGORIAN
BEGIN:VEVENT
DTSTART:20211214T153000Z
DTEND:20211214T163000Z
X-MICROSOFT-CDO-ALLDAYEVENT:FALSE
SUMMARY:Community Event - Parent Connections Group
DESCRIPTION:This free group will be led by our Therapist Sheila Adamo\, MSW\, LCSW\, CADC to provide support and guidance for parents of preschool through grade school children with the opportunity to form a deeper connection with themselves\, their families\, and similar parents. To help address the worry that we all have as parents\, how do I stay connected as a robust role model for my child(ren) in today's world? Topics to be discussed: Coping skills\, Self-Care\, Discipline\, Mental Health of the Family\, School Support\, Inter Connectedness Through Parenting\, Modeling Approaches\, Boundary Setting\, Integrating with Friends & Family. Participants are welcome to join these free sessions at any time throughout their duration every other Tuesday until Dec. 15th.
X-ALT-DESC;FMTTYPE=text/html:This free group will be led by our Therapist Sheila Adamo\, MSW\, LCSW\, CADC to provide support and guidance for parents of preschool through grade school children with the opportunity to form a deeper connection with themselves\, their families\, and similar parents. To help address the worry that we all have as parents\, how do I stay connected as a robust role model for my child(ren) in today&#39\;s world? Topics to be discussed: Coping skills\, Self-Care\, Discipline\, Mental Health of the Family\, School Support\, Inter Connectedness Through Parenting\, Modeling Approaches\, Boundary Setting\, Integrating with Friends &amp\; Family. Participants are welcome to join these free sessions at any time throughout their duration every other Tuesday until Dec. 15th.
LOCATION:Your Story Counseling 4745 Main Street Suite 207 Lisle\, IL.
UID:e.27.14014
SEQUENCE:3
DTSTAMP:20260421T052928Z
URL:http://business.lislechamber.com/events/details/community-event-parent-connections-group-12-14-2021-14014
END:VEVENT

END:VCALENDAR
