BEGIN:VCALENDAR
VERSION:2.0
PRODID:-//ChamberMaster//Event Calendar 2.0//EN
METHOD:PUBLISH
X-PUBLISHED-TTL:P3D
REFRESH-INTERVAL:P3D
CALSCALE:GREGORIAN
BEGIN:VEVENT
DTSTART:20210913T170000Z
DTEND:20210927T180000Z
X-MICROSOFT-CDO-ALLDAYEVENT:FALSE
SUMMARY:Community Event - Mindfulness Virtual Group Sessions
DESCRIPTION:Take a Break & Get Mindful with Us! Mondays at noon in September Sept. 13\, 20 & 27 Want to practice with others\, get guidance and ask questions with an Advanced Mindfulness Practitioner? To get a free Zoom link to attend\, email SarahB@LisleTownship.com by 10 a.m. at the latest on the day of each session. Link changes weekly. Join us!
X-ALT-DESC;FMTTYPE=text/html:Take a Break &amp\; Get Mindful with Us! Mondays at noon in September Sept. 13\, 20 &amp\; 27 Want to practice with others\, get guidance and ask questions with an Advanced Mindfulness Practitioner? To get a free Zoom link to attend\, email SarahB@LisleTownship.com by 10 a.m. at the latest on the day of each session. Link changes weekly. Join us!
LOCATION:Virtually on Zoom Email SarahB@LisleTownship.com by 10 a.m. prior to each day's session at noon to be sent a Zoom link. (Link changes weekly.)
UID:e.27.13977
SEQUENCE:3
DTSTAMP:20260421T094004Z
URL:http://business.lislechamber.com/events/details/community-event-mindfulness-virtual-group-sessions-13977
END:VEVENT

END:VCALENDAR
