BEGIN:VCALENDAR
VERSION:2.0
PRODID:-//ChamberMaster//Event Calendar 2.0//EN
METHOD:PUBLISH
X-PUBLISHED-TTL:P3D
REFRESH-INTERVAL:P3D
CALSCALE:GREGORIAN
BEGIN:VEVENT
DTSTART:20220604T130000Z
DTEND:20220604T180000Z
X-MICROSOFT-CDO-ALLDAYEVENT:FALSE
SUMMARY:Community Event - LivingWell Cancer Resource Center's 2022 Bridge Walk & 5K
DESCRIPTION:A celebration of cancer survivors at Northwestern Medicine Field in Geneva\, home of the Kane County Cougars! All proceeds from Bridge Walk & 5K support the LivingWell Cancer Resource Center's unwavering commitment to ensure people facing cancer feel empowered with knowledge\, strengthened by action and sustained by a supportive community. Register and learn more at http://livingwellcrc.org.
X-ALT-DESC;FMTTYPE=text/html:<span style="color:black\; font-family:helvetica\,sans-serif\; font-size:14.5pt">A celebration of cancer survivors at Northwestern Medicine Field in Geneva\, home of the Kane County Cougars! All proceeds from Bridge Walk &amp\; 5K support the LivingWell Cancer Resource Center&#39\;s unwavering commitment to ensure people facing cancer feel empowered with knowledge\, strengthened by action and sustained by a supportive community. Register and learn more at&nbsp\;http://livingwellcrc.org.</span>
LOCATION:Location Name: Northwestern Medicine Field Address: 34W002 Cherry Lane City\, State\, Postal Code: Geneva\, IL 60134
UID:e.27.14111
SEQUENCE:3
DTSTAMP:20260420T201623Z
URL:http://business.lislechamber.com/events/details/community-event-livingwell-cancer-resource-center-s-2022-bridge-walk-5k-14111
END:VEVENT

END:VCALENDAR
