BEGIN:VCALENDAR
VERSION:2.0
PRODID:-//ChamberMaster//Event Calendar 2.0//EN
METHOD:PUBLISH
X-PUBLISHED-TTL:P3D
REFRESH-INTERVAL:P3D
CALSCALE:GREGORIAN
BEGIN:VEVENT
DTSTART:20221011T190000Z
DTEND:20221011T230000Z
X-MICROSOFT-CDO-ALLDAYEVENT:FALSE
SUMMARY:Community Event - Lisle VFW Post 5696 Blood Drive
DESCRIPTION:Lisle VFW Post 5696\n\nBlood Drive\n\nTuesday\, October 11\, 2022\n\n2:00 p.m. - 6:00 p.m.\n\n\n\nLocated in the Blood Drive Bus\n\nat the Lisle Fire Department\n\n1005 School Street\n\nLisle\, IL 60532
X-ALT-DESC;FMTTYPE=text/html:<br />\n<strong>Lisle VFW Post 5696<br />\nBlood Drive</strong><br />\nTuesday\, October 11\, 2022<br />\n2:00 p.m. - 6:00 p.m.<br />\n<br />\n<strong>Located in the Blood Drive Bus<br />\nat the Lisle Fire Department<br />\n1005 School Street<br />\nLisle\, IL 60532</strong>
LOCATION:Located in the Blood Drive Bus at the Lisle Fire Department 1005 School Street Lisle\, IL 60532
UID:e.27.14608
SEQUENCE:3
DTSTAMP:20260420T153304Z
URL:http://business.lislechamber.com/events/details/community-event-lisle-vfw-post-5696-blood-drive-14608
END:VEVENT

END:VCALENDAR
