BEGIN:VCALENDAR
VERSION:2.0
PRODID:-//ChamberMaster//Event Calendar 2.0//EN
METHOD:PUBLISH
X-PUBLISHED-TTL:P3D
REFRESH-INTERVAL:P3D
CALSCALE:GREGORIAN
BEGIN:VEVENT
DTSTART:20210709T003000Z
DTEND:20210709T020000Z
X-MICROSOFT-CDO-ALLDAYEVENT:FALSE
SUMMARY:Community Event - Lisle Community Band Concert
DESCRIPTION:Concerts in the Park Marches\, Light Classical and popular music from movies and Broadway
X-ALT-DESC;FMTTYPE=text/html:Concerts in the Park Marches\, Light Classical and popular music from movies and Broadway
LOCATION:Lisle Park District Band Shell 1825 Short Street Lisle\, IL 60532
UID:e.27.13724
SEQUENCE:3
DTSTAMP:20260421T140034Z
URL:http://business.lislechamber.com/events/details/community-event-lisle-community-band-concert-07-08-2021-13724
END:VEVENT

END:VCALENDAR
