BEGIN:VCALENDAR
VERSION:2.0
PRODID:-//ChamberMaster//Event Calendar 2.0//EN
METHOD:PUBLISH
X-PUBLISHED-TTL:P3D
REFRESH-INTERVAL:P3D
CALSCALE:GREGORIAN
BEGIN:VEVENT
DTSTART:20220708T003000Z
DTEND:20220708T020000Z
X-MICROSOFT-CDO-ALLDAYEVENT:FALSE
SUMMARY:Community Event - Lisle Community Band Concert
DESCRIPTION:Music by Beethoven\, Gershwin Medley\, and Salute to Ol' Blue Eyes
X-ALT-DESC;FMTTYPE=text/html:Music by Beethoven\, Gershwin Medley\, and Salute to Ol&rsquo\; Blue Eyes
LOCATION:Lisle Park District Band Shell in Community Park. In case of rain\, concert held in Lisle HS
UID:e.27.14166
SEQUENCE:3
DTSTAMP:20260420T182933Z
URL:http://business.lislechamber.com/events/details/community-event-lisle-community-band-concert-07-07-2022-14166
END:VEVENT

END:VCALENDAR
