BEGIN:VCALENDAR
VERSION:2.0
PRODID:-//ChamberMaster//Event Calendar 2.0//EN
METHOD:PUBLISH
X-PUBLISHED-TTL:P3D
REFRESH-INTERVAL:P3D
CALSCALE:GREGORIAN
BEGIN:VEVENT
DTSTART:20260425T140000Z
DTEND:20260426T030000Z
X-MICROSOFT-CDO-ALLDAYEVENT:FALSE
SUMMARY:Community Event: Independent Bookstore Day at Swallow Stories Bookshop
DESCRIPTION:Celebrate Independent Bookstore Day at Swallow Stories Bookshop\n\nSaturday\, April 25\, 2026\n\n9:00 a.m. - 10:00 p.m.\n\n\n\nSwallow Stories Bookshop\n\n4710 Main Street\n\nLisle\, IL 60532\n\nhttps://www.swallowstories.com/
X-ALT-DESC;FMTTYPE=text/html:<br />\n<strong>Celebrate Independent Bookstore Day at Swallow Stories Bookshop<br />\nSaturday\, April 25\, 2026<br />\n9:00 a.m. - 10:00 p.m.<br />\n<br />\nSwallow Stories Bookshop<br />\n4710 Main Street<br />\nLisle\, IL 60532<br />\n<a href="https://www.swallowstories.com/">https://www.swallowstories.com/</a></strong>
LOCATION:
UID:e.27.16901
SEQUENCE:3
DTSTAMP:20260420T202611Z
URL:http://business.lislechamber.com/events/details/community-event-independent-bookstore-day-at-swallow-stories-bookshop-16901
END:VEVENT

END:VCALENDAR
