BEGIN:VCALENDAR
VERSION:2.0
PRODID:-//ChamberMaster//Event Calendar 2.0//EN
METHOD:PUBLISH
X-PUBLISHED-TTL:P3D
REFRESH-INTERVAL:P3D
CALSCALE:GREGORIAN
BEGIN:VEVENT
DTSTART;VALUE=DATE:20220426
DTEND;VALUE=DATE:20220429
TRANSP:TRANSPARENT
X-MICROSOFT-CDO-ALLDAYEVENT:TRUE
SUMMARY:Community Event - Grand Opening/Open House: LivingWell Cancer Resource Center Warrenville
DESCRIPTION:Tour LivingWell Cancer Resource Center's newest location in Warrenville\, next to the Northwestern Medicine Proton Center and Warrenville Cancer Center. LivingWell\, part of Northwestern Medicine\, supports patients\, families and caregivers impacted by cancer. We offer more than 100 programs and services at no cost to help people navigate diagnosis\, treatment and survivorship.
X-ALT-DESC;FMTTYPE=text/html:<span style="color:black\; font-family:helvetica\,sans-serif\; font-size:14.5pt">Tour LivingWell Cancer Resource Center&rsquo\;s newest location in Warrenville\, next to the Northwestern Medicine Proton Center and Warrenville Cancer Center. LivingWell\, part of Northwestern Medicine\, supports patients\, families and caregivers impacted by cancer. We offer more than 100 programs and services at no cost to help people navigate diagnosis\, treatment and survivorship.&nbsp\;</span>
LOCATION:Location Name: LivingWell Warrenville Address: 4525 Weaver Parkway\, Suite 103 City\, State\, Postal Code: Warrenville\, IL 60555
UID:e.27.14110
SEQUENCE:3
DTSTAMP:20260420T231151Z
URL:http://business.lislechamber.com/events/details/community-event-grand-opening-open-house-livingwell-cancer-resource-center-warrenville-14110
END:VEVENT

END:VCALENDAR
