BEGIN:VCALENDAR
VERSION:2.0
PRODID:-//ChamberMaster//Event Calendar 2.0//EN
METHOD:PUBLISH
X-PUBLISHED-TTL:P3D
REFRESH-INTERVAL:P3D
CALSCALE:GREGORIAN
BEGIN:VEVENT
DTSTART:20251025T193000Z
DTEND:20251025T220000Z
X-MICROSOFT-CDO-ALLDAYEVENT:FALSE
SUMMARY:Community Event: Giant Steps Rock Your Socks 5K Walk for Autism
DESCRIPTION:Join Giant Steps on Saturday\, October 25th for our Annual 5k Walk for Autism! It is more than a walk\, it's a movement of hope\, support\, and inclusion for individuals with autism. ?? Whether you walk\, donate\, or spread the word\, YOU are helping create a brighter future. Every stride we take together transforms worry into empowerment. Join our 5K Walk and help families of children on the autism spectrum move from fear into a future filled with hope. Every donation brings brighter tomorrows into clearer focus. Learn more & get involved today: walk.gsteps.org
X-ALT-DESC;FMTTYPE=text/html:Join Giant Steps on Saturday\, October 25th for our Annual 5k Walk for Autism! It is more than a walk\, it&rsquo\;s a movement of hope\, support\, and inclusion for individuals with autism. ?? Whether you walk\, donate\, or spread the word\, YOU are helping create a brighter future. Every stride we take together transforms worry into empowerment. Join our 5K Walk and help families of children on the autism spectrum move from fear into a future filled with hope. Every donation brings brighter tomorrows into clearer focus. Learn more &amp\; get involved today: walk.gsteps.org
LOCATION:Rich Harvest Farms: 8S055 Dugan Road Sugar Grove\, IL 60554
UID:e.27.16780
SEQUENCE:3
DTSTAMP:20260420T082551Z
URL:http://business.lislechamber.com/events/details/community-event-giant-steps-rock-your-socks-5k-walk-for-autism-16780
END:VEVENT

END:VCALENDAR
