BEGIN:VCALENDAR
VERSION:2.0
PRODID:-//ChamberMaster//Event Calendar 2.0//EN
METHOD:PUBLISH
X-PUBLISHED-TTL:P3D
REFRESH-INTERVAL:P3D
CALSCALE:GREGORIAN
BEGIN:VEVENT
DTSTART:20220426T140000Z
DTEND:20220427T000000Z
X-MICROSOFT-CDO-ALLDAYEVENT:FALSE
SUMMARY:Community Event - Gator Chef Grand Opening Celebration
DESCRIPTION:In January 2022\, Gator Chef opened its Lisle Superstore\, the largest & cleanest cash n' carry for foodservice equipment and supplies in the Chicagoland area!\n\nHUGE SAVINGS!\n\n10% OFF EVERYTHING!\n\nYou won't see a promotion like this one! Everything in stock you will save 10% off the retail price. Equipment\, Appliances\, Smallwares\, Chemicals\, Disposables... EVERYTHING!\n\nENERGY REBATES!\n\nDid you know that certain equipment qualifies for Instant Energy Rebates? Not only will receive you 10% OFF the equipment\, but you could receive additional discounts with an Instant Energy Rebate!\n\nPlus\, 7% LOYALTY PROGRAM!\n\nDid you think we would take away the Loyalty Program? Why would we?! Besides the amazing discounts that day\, you can still earn 7% BACK on qualifying items through our Loyalty Program!\n\n \n\nWhen we say 10% OFF we mean it! All Makes! All Models! If we have it\, you get it!\n\nIn-store Only! HUGE SAVINGS! Tuesday April 26th\, 9AM to 7PM ONLY! Don't miss out!\n\nPlus\, FREE FOOD\, FREE RAFFLES & FREE GIFTS! Register Now!\n\n*Exclusions apply. See an associate for details\n\n \n\nCommercial Product Demos: Equipment & Appliances!\n\nDEMOS ALL DAY at our Opening Celebration! Don't miss it! Anywhere from Blenders & Mixers to Ovens & Vacuum Sealers to CFPM Certifications & POS Systems to Janitorial & HVAC/Maintenance Solutions! Whose Opening Celebration has Demos All Day\, Storewide Discounts\, Free Food & Raffles?\n\nAll at the Cleanest Cash & Carry Foodservice Store in the Chicagoland Area\, Gator Chef - a proud woman-owned and family-operated small business!
X-ALT-DESC;FMTTYPE=text/html:<h3><em><strong>In January 2022\, Gator Chef opened its Lisle Superstore\, the largest &amp\; cleanest cash n&#39\; carry for foodservice equipment and supplies in the Chicagoland area!</strong></em></h3>\n\n<h1>HUGE SAVINGS!</h1>\n\n<h2>10% OFF EVERYTHING!</h2>\n\n<p>You won&#39\;t see a promotion like this one! Everything in stock you will save 10% off the retail price. Equipment\, Appliances\, Smallwares\, Chemicals\, Disposables... EVERYTHING!</p>\n\n<h2>ENERGY REBATES!</h2>\n\n<p>Did you know that certain equipment qualifies for Instant Energy Rebates? Not only will receive you 10% OFF the equipment\, but you could receive additional discounts with an Instant Energy Rebate!</p>\n\n<h2>Plus\, 7% LOYALTY PROGRAM!</h2>\n\n<p>Did you think we would take away the Loyalty Program? Why would we?! Besides the amazing discounts that day\, you can still earn 7% BACK on qualifying items through our Loyalty Program!<br />\n&nbsp\;</p>\n\n<h3><strong>When we say 10% OFF we mean it! All Makes! All Models! If we have it\, you get it!</strong></h3>\n\n<p>In-store Only! HUGE SAVINGS! Tuesday April 26th\, 9AM to 7PM ONLY! Don&#39\;t miss out!</p>\n\n<p>Plus\, FREE FOOD\, FREE RAFFLES &amp\; FREE GIFTS! Register Now!</p>\n\n<p><em>*Exclusions apply. See an associate for details</em><br />\n&nbsp\;</p>\n\n<h1>Commercial Product Demos: Equipment &amp\; Appliances!</h1>\n\n<h3><strong>DEMOS ALL DAY</strong> at our Opening Celebration! Don&#39\;t miss it! Anywhere from Blenders &amp\; Mixers to Ovens &amp\; Vacuum Sealers to CFPM Certifications &amp\; POS Systems to Janitorial &amp\; HVAC/Maintenance Solutions! Whose Opening Celebration has Demos All Day\, Storewide Discounts\, Free Food &amp\; Raffles?</h3>\n\n<h3><em><strong>All at the Cleanest Cash &amp\; Carry Foodservice Store in the Chicagoland Area\, Gator Chef - a proud woman-owned and family-operated small business!</strong></em></h3>\n
LOCATION:1808 Ogden Ave\, Lisle\, IL 60532
UID:e.27.14118
SEQUENCE:3
DTSTAMP:20260420T231004Z
URL:http://business.lislechamber.com/events/details/community-event-gator-chef-grand-opening-celebration-14118
END:VEVENT

END:VCALENDAR
