BEGIN:VCALENDAR
VERSION:2.0
PRODID:-//ChamberMaster//Event Calendar 2.0//EN
METHOD:PUBLISH
X-PUBLISHED-TTL:P3D
REFRESH-INTERVAL:P3D
CALSCALE:GREGORIAN
BEGIN:VEVENT
DTSTART:20220203T233000Z
DTEND:20220204T003000Z
X-MICROSOFT-CDO-ALLDAYEVENT:FALSE
SUMMARY:Community Event - Drop-In Grief Support Group
DESCRIPTION:This group supports individuals (ages 18+) who have experienced grief & loss\, whether through death\, job loss\, pet loss\, or other major life transitions\, that may be feeling along through their grieving process.
X-ALT-DESC;FMTTYPE=text/html:This group supports individuals (ages 18+) who have experienced grief &amp\; loss\, whether through death\, job loss\, pet loss\, or other major life transitions\, that may be feeling along through their grieving process.
LOCATION:Your Story Counseling 4745 Main Street Suite 207 lisle\, IL 60532
UID:e.27.14061
SEQUENCE:3
DTSTAMP:20260421T021828Z
URL:http://business.lislechamber.com/events/details/community-event-drop-in-grief-support-group-14061
END:VEVENT

END:VCALENDAR
